BEGIN:VCALENDAR
VERSION:2.0
PRODID:-//Kinoki - ECPv6.15.18//NONSGML v1.0//EN
CALSCALE:GREGORIAN
METHOD:PUBLISH
X-WR-CALNAME:Kinoki
X-ORIGINAL-URL:https://www.kinoki.com.mx
X-WR-CALDESC:Eventos para Kinoki
REFRESH-INTERVAL;VALUE=DURATION:PT1H
X-Robots-Tag:noindex
X-PUBLISHED-TTL:PT1H
BEGIN:VTIMEZONE
TZID:America/Monterrey
BEGIN:STANDARD
TZOFFSETFROM:-0600
TZOFFSETTO:-0600
TZNAME:CST
DTSTART:20240101T000000
END:STANDARD
END:VTIMEZONE
BEGIN:VEVENT
DTSTART;TZID=America/Monterrey:20250908T180000
DTEND;TZID=America/Monterrey:20250908T200000
DTSTAMP:20260420T123008
CREATED:20250828T170345Z
LAST-MODIFIED:20250828T170345Z
UID:7221-1757354400-1757361600@www.kinoki.com.mx
SUMMARY:ESTRENO: XOFTEX
DESCRIPTION:Noaz Deshe. Alemania\, Francia\, 2024. Terror. 99 min.  \nXoftex es un campo de refugiados griego\, donde solicitantes de asilo sirios y palestinos esperan ansiosos noticias sobre su estatus de refugiados. Para pasar el tiempo entre las entrevistas con la oficina de inmigración\, Nasser y sus amigos filman sketches satíricos y hacen preparativos para una película de terror de zombis. Pero la realidad del campo podría confundirse con un escenario de terror en sí misma. La tensión entre sus habitantes gana impulso y cada conflicto quita un ladrillo más del muro que divide la realidad del sueño -o\, de hecho\, la pesadilla-.  \n1\, 8 septiembre 6 PM / 2\, 4\, 10\, 13 septiembre 9 PM. 
URL:https://www.kinoki.com.mx/funcion/estreno-xoftex-4/
LOCATION:Kinoki\, Belisario Domínguez #5\, San Cristóbal de Las Casas\, Chiapas\, 29246\, Mexico
CATEGORIES:estreno
END:VEVENT
BEGIN:VEVENT
DTSTART;TZID=America/Monterrey:20250908T190000
DTEND;TZID=America/Monterrey:20250908T210000
DTSTAMP:20260420T123008
CREATED:20250828T170615Z
LAST-MODIFIED:20250828T170615Z
UID:7222-1757358000-1757365200@www.kinoki.com.mx
SUMMARY:RUMBO AL ARIEL: SUJO. ENTRADA LIBRE
DESCRIPTION:Astrid Rondero\, Fernanda Valadez. México\, 2024. Ficción. 127 min. Español. Cuando un sicario es asesinado\, deja atrás a Sujo\, su amado hijo de 4 años. La sombra de la violencia acecha a Sujo en cada etapa de su vida. A medida que se hace hombre\, Sujo descubrirá que cumplir el destino de su padre parece inevitable. 8 septiembre 7 pm
URL:https://www.kinoki.com.mx/funcion/rumbo-al-ariel-sujo-entrada-libre/
LOCATION:Kinoki\, Belisario Domínguez #5\, San Cristóbal de Las Casas\, Chiapas\, 29246\, Mexico
CATEGORIES:Rumbo al Ariel
END:VEVENT
BEGIN:VEVENT
DTSTART;TZID=America/Monterrey:20250908T210000
DTEND;TZID=America/Monterrey:20250908T230000
DTSTAMP:20260420T123008
CREATED:20250828T170641Z
LAST-MODIFIED:20250828T170641Z
UID:7223-1757365200-1757372400@www.kinoki.com.mx
SUMMARY:Los más Pequeños\, un Retrato del EZLN
DESCRIPTION:Maria Del Carmen Ortiz y Jose Luis Contreras\, documental\, hablado en español\, México\, 1994\, 64 min. Impactante crónica de la ardua lucha cotidiana que enfrentan el EZLN y las comunidades indígenas que habitan en el territorio rebelde para sobrevivir en el cerco. La cinta está estructurada por los testimonios de diferentes milicianos acerca de su incorporación al Ejército Zapatista.
URL:https://www.kinoki.com.mx/funcion/los-mas-pequenos-un-retrato-del-ezln-53/
LOCATION:Kinoki\, Belisario Domínguez #5\, San Cristóbal de Las Casas\, Chiapas\, 29246\, Mexico
CATEGORIES:zapatista
END:VEVENT
END:VCALENDAR