BEGIN:VCALENDAR
VERSION:2.0
PRODID:-//Kinoki - ECPv6.15.18//NONSGML v1.0//EN
CALSCALE:GREGORIAN
METHOD:PUBLISH
X-ORIGINAL-URL:https://www.kinoki.com.mx
X-WR-CALDESC:Eventos para Kinoki
REFRESH-INTERVAL;VALUE=DURATION:PT1H
X-Robots-Tag:noindex
X-PUBLISHED-TTL:PT1H
BEGIN:VTIMEZONE
TZID:America/Monterrey
BEGIN:STANDARD
TZOFFSETFROM:-0600
TZOFFSETTO:-0600
TZNAME:CST
DTSTART:20240101T000000
END:STANDARD
END:VTIMEZONE
BEGIN:VEVENT
DTSTART;TZID=America/Monterrey:20250910T180000
DTEND;TZID=America/Monterrey:20250910T200000
DTSTAMP:20260420T090413
CREATED:20250828T170848Z
LAST-MODIFIED:20250828T170848Z
UID:7226-1757527200-1757534400@www.kinoki.com.mx
SUMMARY:ESTRENO: LA CANCIÓN DEL ÚLTIMO SABIO LACANDÓN
DESCRIPTION:Cole Smothers. México\, Estados Unidos\, 2024. Documental. 68 min. Lacandón\, inglés\, subtítulos en español.  \nDurante su búsqueda por la música ancestral\, el músico Luis Pérez-Ixoneztli se topa con Antonio Chan K’in\, líder espiritual de uno de los grupos indígenas más aislados de México. Antonio está convencido que el peligro caerá sobre su pueblo si su hijo no toma su lugar.  \n5\, 7\, 14 septiembre 9 PM / 11 septiembre 6 PM
URL:https://www.kinoki.com.mx/funcion/estreno-la-cancion-del-ultimo-sabio-lacandon-4/
LOCATION:Kinoki\, Belisario Domínguez #5\, San Cristóbal de Las Casas\, Chiapas\, 29246\, Mexico
CATEGORIES:estreno
END:VEVENT
BEGIN:VEVENT
DTSTART;TZID=America/Monterrey:20250910T190000
DTEND;TZID=America/Monterrey:20250910T210000
DTSTAMP:20260420T090413
CREATED:20250828T170950Z
LAST-MODIFIED:20250828T170950Z
UID:7227-1757530800-1757538000@www.kinoki.com.mx
SUMMARY:RUMBO AL ARIEL: CORTOMETRAJE DOCUMENTAL. ENTRADA LIBRE
DESCRIPTION:ANÓNIMA INMENSIDAD. Paulina del Paso. México\, 2024. Documental. 16 min. Español. En la inmensa ciudad de México surge un vínculo poético entre seis habitantes de diferentes latitudes de la urbe. En complicidad con la cámara cada uno nos revela su relación con la ciudad y nos comparte un momento de intimidad. A pesar de no conocerse\, una acción poética los unirá para siempre: un lazo de piel y de palabras.\n\n\nBUSCANDO UN BURRO. Juan Manrique. México\, Venezuela\, 2024. Documental. Español. 17 min. En un pequeño pueblo de los Andes venezolanos\, dos bomberos grabaron un vídeo de un burro como si fuera el presidente de Venezuela visitando sus deterioradas instalaciones. Ese mismo día los bomberos fueron llevados a prisión\, pero poco se sabe del paradero del burro.\n\n\nHASTA ENCONTRARLOS. Jean Chapiro Uziel. México\, 2023. Documental. 19 min. Español. Tres años después de que su hija Rubí desapareciera\, Araceli Salcedo fundó un colectivo en su comunidad de Veracruz\, México. Canalizando el amor por su hija en la fuerza para liderar\, el grupo de Araceli ahora cuenta con más de 350 miembros\, la mayoría de ellos madres\, y ninguna de ellas descansará hasta encontrar a sus desaparecidos.\n\n\nMUTSK WUÄJXTË’ (PEQUEÑOS ZORROS). Ximena Guzmán\, Balam Toscano. México\, 2024. Mixe. 6 min. Noemí\, mujer Ayuuk\, reflexiona sobre la pérdida de su lengua con una voz que se entreteje con la cotidianidad de la comunidad de Cerro Costoche en las montañas de la sierra Mixe de Oaxaca.\n\n\nVIENTRE DE LUNA. Liliana Guadalupe López López. México\, 2024. Documental. Tsotsil subtítulos en español. 30 min. En un pequeño lugar de los Altos de Chiapas\, una joven tsotsil que dará a luz por primera vez\, invoca los recuerdos de las mujeres que la precedieron para afrontar este momento. Entre el miedo y la incertidumbre de dar vida\, descubre la maternidad desde la cosmovisión de su mundo. \n\n 
URL:https://www.kinoki.com.mx/funcion/rumbo-al-ariel-cortometraje-documental-entrada-libre/
LOCATION:Kinoki\, Belisario Domínguez #5\, San Cristóbal de Las Casas\, Chiapas\, 29246\, Mexico
CATEGORIES:Rumbo al Ariel
END:VEVENT
BEGIN:VEVENT
DTSTART;TZID=America/Monterrey:20250910T210000
DTEND;TZID=America/Monterrey:20250910T230000
DTSTAMP:20260420T090413
CREATED:20250828T171028Z
LAST-MODIFIED:20250828T171028Z
UID:7228-1757538000-1757545200@www.kinoki.com.mx
SUMMARY:ESTRENO: XOFTEX
DESCRIPTION:Noaz Deshe. Alemania\, Francia\, 2024. Terror. 99 min.  \nXoftex es un campo de refugiados griego\, donde solicitantes de asilo sirios y palestinos esperan ansiosos noticias sobre su estatus de refugiados. Para pasar el tiempo entre las entrevistas con la oficina de inmigración\, Nasser y sus amigos filman sketches satíricos y hacen preparativos para una película de terror de zombis. Pero la realidad del campo podría confundirse con un escenario de terror en sí misma. La tensión entre sus habitantes gana impulso y cada conflicto quita un ladrillo más del muro que divide la realidad del sueño -o\, de hecho\, la pesadilla-.  \n1\, 8 septiembre 6 PM / 2\, 4\, 10\, 13 septiembre 9 PM. 
URL:https://www.kinoki.com.mx/funcion/estreno-xoftex-5/
LOCATION:Kinoki\, Belisario Domínguez #5\, San Cristóbal de Las Casas\, Chiapas\, 29246\, Mexico
CATEGORIES:estreno
END:VEVENT
END:VCALENDAR