BEGIN:VCALENDAR
VERSION:2.0
PRODID:-//Kinoki - ECPv6.15.18//NONSGML v1.0//EN
CALSCALE:GREGORIAN
METHOD:PUBLISH
X-WR-CALNAME:Kinoki
X-ORIGINAL-URL:https://www.kinoki.com.mx
X-WR-CALDESC:Eventos para Kinoki
REFRESH-INTERVAL;VALUE=DURATION:PT1H
X-Robots-Tag:noindex
X-PUBLISHED-TTL:PT1H
BEGIN:VTIMEZONE
TZID:America/Monterrey
BEGIN:STANDARD
TZOFFSETFROM:-0600
TZOFFSETTO:-0600
TZNAME:CST
DTSTART:20240101T000000
END:STANDARD
END:VTIMEZONE
BEGIN:VEVENT
DTSTART;TZID=America/Monterrey:20250912T180000
DTEND;TZID=America/Monterrey:20250912T200000
DTSTAMP:20260420T053821
CREATED:20250828T171157Z
LAST-MODIFIED:20250828T171157Z
UID:7231-1757700000-1757707200@www.kinoki.com.mx
SUMMARY:CINE INFANTIL. MORBITO: ESCUELA DE MIEDO. ENTRADA LIBRE
DESCRIPTION:Leopoldo Aguilar. México\, 2020. 86 min.  \nA Danny le ofrecen una beca para estudiar en la Academia Cranston\, una prestigiosa escuela para genios. Sin embargo\, Danny abre\, por error\, un portal a otra dimensión de la cual salen peligrosos monstruos que invaden su nuevo colegio. Junto a su compañera de cuarto\, Liz\, y un ser hombre-polilla llamado Mothman\, Danny deberá vencerlos para salvar la escuela. \n12 septiembre 6 pm. ENTRADA LIBRE. 
URL:https://www.kinoki.com.mx/funcion/cine-infantil-morbito-escuela-de-miedo-entrada-libre/
LOCATION:Kinoki\, Belisario Domínguez #5\, San Cristóbal de Las Casas\, Chiapas\, 29246\, Mexico
CATEGORIES:Eventos Especiales
END:VEVENT
BEGIN:VEVENT
DTSTART;TZID=America/Monterrey:20250912T190000
DTEND;TZID=America/Monterrey:20250912T210000
DTSTAMP:20260420T053821
CREATED:20250828T171239Z
LAST-MODIFIED:20250828T171239Z
UID:7232-1757703600-1757710800@www.kinoki.com.mx
SUMMARY:RUMBO AL ARIEL: EL LADRÓN DE PERROS. ENTRADA LIBRE
DESCRIPTION: Vinko Tomicic Salinas. Bolivia\, Chile\, México\, Ecuador\, Italia\, Francia\, 2024. Ficción. 90 min. Español. Martín es un adolescente huérfano que trabaja boleando zapatos en la ciudad de La Paz\, Bolivia. Durante años ha estado enredado en un proceso de adopción. Aunque tiene un lugar donde dormir\, evita el acoso que sufre en la escuela y prefiere vagar libremente por la ciudad. Últimamente ha comenzado a sospechar que uno de sus mejores clientes\, un solitario sastre cuyo único lazo afectivo es su perro\, podría ser su padre. En un intento por acercarse a él\, Martín decide robarle al perro y\, al mismo tiempo\, ofrecer su ayuda para encontrarlo. 12 septiembre 7 pm
URL:https://www.kinoki.com.mx/funcion/rumbo-al-ariel-el-ladron-de-perros-entrada-libre/
LOCATION:Kinoki\, Belisario Domínguez #5\, San Cristóbal de Las Casas\, Chiapas\, 29246\, Mexico
CATEGORIES:Eventos Especiales
END:VEVENT
BEGIN:VEVENT
DTSTART;TZID=America/Monterrey:20250912T210000
DTEND;TZID=America/Monterrey:20250912T230000
DTSTAMP:20260420T053821
CREATED:20250828T171315Z
LAST-MODIFIED:20250828T171315Z
UID:7233-1757710800-1757718000@www.kinoki.com.mx
SUMMARY:ESTRENO: LA CANCIÓN DEL ÚLTIMO SABIO LACANDÓN
DESCRIPTION:Cole Smothers. México\, Estados Unidos\, 2024. Documental. 68 min. Lacandón\, inglés\, subtítulos en español.  \nDurante su búsqueda por la música ancestral\, el músico Luis Pérez-Ixoneztli se topa con Antonio Chan K’in\, líder espiritual de uno de los grupos indígenas más aislados de México. Antonio está convencido que el peligro caerá sobre su pueblo si su hijo no toma su lugar.  \n5\, 7\, 14 septiembre 9 PM / 11 septiembre 6 PM
URL:https://www.kinoki.com.mx/funcion/estreno-la-cancion-del-ultimo-sabio-lacandon-5/
LOCATION:Kinoki\, Belisario Domínguez #5\, San Cristóbal de Las Casas\, Chiapas\, 29246\, Mexico
CATEGORIES:estreno
END:VEVENT
END:VCALENDAR