BEGIN:VCALENDAR
VERSION:2.0
PRODID:-//Kinoki - ECPv6.15.18//NONSGML v1.0//EN
CALSCALE:GREGORIAN
METHOD:PUBLISH
X-WR-CALNAME:Kinoki
X-ORIGINAL-URL:https://www.kinoki.com.mx
X-WR-CALDESC:Eventos para Kinoki
REFRESH-INTERVAL;VALUE=DURATION:PT1H
X-Robots-Tag:noindex
X-PUBLISHED-TTL:PT1H
BEGIN:VTIMEZONE
TZID:America/Monterrey
BEGIN:STANDARD
TZOFFSETFROM:-0600
TZOFFSETTO:-0600
TZNAME:CST
DTSTART:20240101T000000
END:STANDARD
END:VTIMEZONE
BEGIN:VEVENT
DTSTART;TZID=America/Monterrey:20250915T180000
DTEND;TZID=America/Monterrey:20250915T200000
DTSTAMP:20260420T002336
CREATED:20250828T182636Z
LAST-MODIFIED:20250828T182636Z
UID:7262-1757959200-1757966400@www.kinoki.com.mx
SUMMARY:ESTRENO: CRÓNICAS DEL OTRO NORTE
DESCRIPTION:Miguel León. México\, 2024. Documental. 90 min.  \nDurante casi tres años\, un extranjero colocó en distintos lugares de Chihuahua (al norte de México)\, un pequeño remolque llamado “La cabina de los sueños”. Una instalación abierta a quien quisiera contar algún sueño. De esos que se quedan grabados en la memoria\, con la misma intensidad de un recuerdo. Con el ánimo de empezar a contar\, por fin\, la historia de la humanidad dormida. Y encontrar en ese viaje\, la clave de su propia historia. Una historia que lo tiene atado\, misteriosamente\, a ese lugar. Mejor documental mexicano\, GIFF 2024 \n15\, 27 septiembre 6 PM / 19\, 21\, 24 septiembre 9 PM
URL:https://www.kinoki.com.mx/funcion/estreno-cronicas-del-otro-norte/
LOCATION:Kinoki\, Belisario Domínguez #5\, San Cristóbal de Las Casas\, Chiapas\, 29246\, Mexico
CATEGORIES:estreno
END:VEVENT
BEGIN:VEVENT
DTSTART;TZID=America/Monterrey:20250915T210000
DTEND;TZID=America/Monterrey:20250915T230000
DTSTAMP:20260420T002336
CREATED:20250828T182709Z
LAST-MODIFIED:20250828T182709Z
UID:7263-1757970000-1757977200@www.kinoki.com.mx
SUMMARY:ESTRENO: LEONORA
DESCRIPTION:Thor Klein\, Lena Vurma. México\, Alemania\, Rumanía y Reino Unido\, 2025. Ficción. 103 min. Español e inglés\, subtítulos en español.  \nXilitla\, 1946. Leonora Carrington entra al jardín surrealista construido por Edward James\, iniciando un viaje entre la realidad y el delirio que nos llevará desde su infancia en Inglaterra hasta el México de mitad del s. XX. Basado en la novela de Elena Poniatowska\, LEONORA es el retrato de una mujer que desde su juventud mostró una ferviente rebeldía y resiliencia a través de sus actos y su pintura\, convirtiéndose en una de las artistas surrealistas más importantes en la historia del arte\, tanto en México como fuera de sus fronteras. 15\, 20\, 26 septiembre 9 PM / 17\, 23 septiembre 6 PM
URL:https://www.kinoki.com.mx/funcion/estreno-leonora/
LOCATION:Kinoki\, Belisario Domínguez #5\, San Cristóbal de Las Casas\, Chiapas\, 29246\, Mexico
CATEGORIES:estreno
END:VEVENT
END:VCALENDAR