BEGIN:VCALENDAR
VERSION:2.0
PRODID:-//Kinoki - ECPv6.15.18//NONSGML v1.0//EN
CALSCALE:GREGORIAN
METHOD:PUBLISH
X-ORIGINAL-URL:https://www.kinoki.com.mx
X-WR-CALDESC:Eventos para Kinoki
REFRESH-INTERVAL;VALUE=DURATION:PT1H
X-Robots-Tag:noindex
X-PUBLISHED-TTL:PT1H
BEGIN:VTIMEZONE
TZID:America/Monterrey
BEGIN:STANDARD
TZOFFSETFROM:-0600
TZOFFSETTO:-0600
TZNAME:CST
DTSTART:20240101T000000
END:STANDARD
END:VTIMEZONE
BEGIN:VEVENT
DTSTART;TZID=America/Monterrey:20250918T180000
DTEND;TZID=America/Monterrey:20250918T200000
DTSTAMP:20260419T182657
CREATED:20250828T183031Z
LAST-MODIFIED:20250828T183031Z
UID:7268-1758218400-1758225600@www.kinoki.com.mx
SUMMARY:ESTRENO: LA MADRE DE TODAS LAS MENTIRAS
DESCRIPTION:Asmae El Moudir. Marruecos. Drama. 97 min. Subtítulos en español. B \nLa joven cineasta marroquí Asmae El Moudir quiere saber por qué solo tiene una fotografía de su infancia\, y por qué la niña en la imagen ni siquiera es ella. Decide explorar el pasado y sus misterios creando una réplica artesanal del barrio de Casablanca donde creció. Allí\, comienza a interrogar las historias que su madre\, padre y abuela cuentan sobre su hogar y su país. Lentamente\, comienza a desentrañar las capas de engaño y olvido intencional que han dado forma a su vida. La verdad es difícil de enfrentar\, pero en este documental a veces surrealista\, El Moudir comienza a sacar a la superficie lo que es real. 16\, 22\, 28 septiembre 9 PM / 18\, 25 septiembre 6 PM
URL:https://www.kinoki.com.mx/funcion/estreno-la-madre-de-todas-las-mentiras-2/
LOCATION:Kinoki\, Belisario Domínguez #5\, San Cristóbal de Las Casas\, Chiapas\, 29246\, Mexico
CATEGORIES:estreno
END:VEVENT
BEGIN:VEVENT
DTSTART;TZID=America/Monterrey:20250918T210000
DTEND;TZID=America/Monterrey:20250918T230000
DTSTAMP:20260419T182657
CREATED:20250828T183110Z
LAST-MODIFIED:20250828T183110Z
UID:7269-1758229200-1758236400@www.kinoki.com.mx
SUMMARY:Corazón del Tiempo (SUB ING)
DESCRIPTION:Alberto Cortés. México-España\, 2008\, 90 min.Español subtítulos en inglés.  \nEn un mundo donde todo cambia\, en una tierra extraordinaria de indios libres\, la pasión de una mujer se juega el sentido de su libertad en el corazón del tiempo” Una historia de amor en el interior de la selva lacandona y un viaje al corazón de la resistencia zapatista se concentran en Corazón del Tiempo. 
URL:https://www.kinoki.com.mx/funcion/corazon-del-tiempo-sub-ing-47/
LOCATION:Kinoki\, Belisario Domínguez #5\, San Cristóbal de Las Casas\, Chiapas\, 29246\, Mexico
CATEGORIES:zapatista
END:VEVENT
END:VCALENDAR