BEGIN:VCALENDAR
VERSION:2.0
PRODID:-//Kinoki - ECPv6.15.18//NONSGML v1.0//EN
CALSCALE:GREGORIAN
METHOD:PUBLISH
X-WR-CALNAME:Kinoki
X-ORIGINAL-URL:https://www.kinoki.com.mx
X-WR-CALDESC:Eventos para Kinoki
REFRESH-INTERVAL;VALUE=DURATION:PT1H
X-Robots-Tag:noindex
X-PUBLISHED-TTL:PT1H
BEGIN:VTIMEZONE
TZID:America/Monterrey
BEGIN:STANDARD
TZOFFSETFROM:-0600
TZOFFSETTO:-0600
TZNAME:CST
DTSTART:20240101T000000
END:STANDARD
END:VTIMEZONE
BEGIN:VEVENT
DTSTART;TZID=America/Monterrey:20250920T170000
DTEND;TZID=America/Monterrey:20250920T190000
DTSTAMP:20260419T143705
CREATED:20250828T183452Z
LAST-MODIFIED:20250828T183452Z
UID:7274-1758387600-1758394800@www.kinoki.com.mx
SUMMARY:MORBITO: GUARDIANES DE OZ
DESCRIPTION:Alberto Mar. México\, 2015\, 85 min.  \nOzzy es un pequeño pero inteligente mono volador\, hijo del legendario guerrero Goliat. Ambos son parte del ejército de monos voladores que sirve a Eveline; la malvada bruja del Oeste. A diferencia del resto de su especie\, Ozzy no está convencido en servir ciegamente a Eveline\, así que cuando la bruja pone en marcha sus planes para atacar el reino él decide ir en busca de los legendarios “Guardianes de Oz”  para que luchen contra ella.  Mientras Ozzy recorre la fantástica y peligrosa tierra de Oz en busca de los Guardianes conoce a Gabby\, una inexperta aprendiz de bruja quien decide acompañarlo. Para su sorpresa descubren que los Guardianes de Oz han caído bajo un poderoso hechizo que los hace actuar como locos de remate. Las cosas empeoran aún más cuando Evilene descubre los planes de Ozzy y ordena a todo su ejército detenerlo a cualquier costo. Es así como con tan solo un poco de corazón\, valentía e inteligencia Ozzy intentará hacer de Oz un mundo mejor. 20 septiembre 5 pm. ENTRADA LIBRE. 
URL:https://www.kinoki.com.mx/funcion/morbito-guardianes-de-oz/
LOCATION:KINOKI Tenejapa\, Paraiso #3\, Tenejapa\, Chiapas\, 29480\, Mexico
CATEGORIES:Cine infantil,Eventos Especiales
END:VEVENT
BEGIN:VEVENT
DTSTART;TZID=America/Monterrey:20250920T180000
DTEND;TZID=America/Monterrey:20250920T200000
DTSTAMP:20260419T143705
CREATED:20250828T183324Z
LAST-MODIFIED:20250828T183324Z
UID:7272-1758391200-1758398400@www.kinoki.com.mx
SUMMARY:CINE INFANTIL. MORBITO: GUARDIANES DE OZ. ENTRADA LIBRE
DESCRIPTION:Alberto Mar. México\, 2015\, 85 min.  \nOzzy es un pequeño pero inteligente mono volador\, hijo del legendario guerrero Goliat. Ambos son parte del ejército de monos voladores que sirve a Eveline; la malvada bruja del Oeste. A diferencia del resto de su especie\, Ozzy no está convencido en servir ciegamente a Eveline\, así que cuando la bruja pone en marcha sus planes para atacar el reino él decide ir en busca de los legendarios “Guardianes de Oz”  para que luchen contra ella.  Mientras Ozzy recorre la fantástica y peligrosa tierra de Oz en busca de los Guardianes conoce a Gabby\, una inexperta aprendiz de bruja quien decide acompañarlo. Para su sorpresa descubren que los Guardianes de Oz han caído bajo un poderoso hechizo que los hace actuar como locos de remate. Las cosas empeoran aún más cuando Evilene descubre los planes de Ozzy y ordena a todo su ejército detenerlo a cualquier costo. Es así como con tan solo un poco de corazón\, valentía e inteligencia Ozzy intentará hacer de Oz un mundo mejor. 20 septiembre 6 pm. ENTRADA LIBRE. 
URL:https://www.kinoki.com.mx/funcion/cine-infantil-morbito-guardianes-de-oz-entrada-libre/
LOCATION:Kinoki\, Belisario Domínguez #5\, San Cristóbal de Las Casas\, Chiapas\, 29246\, Mexico
CATEGORIES:Eventos Especiales
END:VEVENT
BEGIN:VEVENT
DTSTART;TZID=America/Monterrey:20250920T190000
DTEND;TZID=America/Monterrey:20250920T210000
DTSTAMP:20260419T143705
CREATED:20250828T183538Z
LAST-MODIFIED:20250828T183538Z
UID:7275-1758394800-1758402000@www.kinoki.com.mx
SUMMARY:HILANDO SONES
DESCRIPTION:Ismael Vázquez. México\, 2024. Documental. 77 min. Amuzgo\, Español.  \nEn San Pedro Amuzgos\, el “pueblo de los hiladores” donde el director creció\, la infancia se vive bajo el telar. Mientras Zoila teje\, escucha las primeras preguntas existenciales de su hijo. A través de la urdimbre de su conversación\, descubrimos tres tramas: la de la propia Zoila\, la de Donato\, el violinista más famoso del pueblo\, y la de Lorenzo\, su heredero. Son historias de sones y danzas\, de hijos y padres\, y de los hilos que se juntan. 20 septiembre 7 pm. 
URL:https://www.kinoki.com.mx/funcion/hilando-sones-2/
LOCATION:KINOKI Tenejapa\, Paraiso #3\, Tenejapa\, Chiapas\, 29480\, Mexico
CATEGORIES:estreno
END:VEVENT
BEGIN:VEVENT
DTSTART;TZID=America/Monterrey:20250920T210000
DTEND;TZID=America/Monterrey:20250920T230000
DTSTAMP:20260419T143705
CREATED:20250828T183406Z
LAST-MODIFIED:20250828T183406Z
UID:7273-1758402000-1758409200@www.kinoki.com.mx
SUMMARY:ESTRENO: LEONORA
DESCRIPTION:Thor Klein\, Lena Vurma. México\, Alemania\, Rumanía y Reino Unido\, 2025. Ficción. 103 min. Español e inglés\, subtítulos en español.  \nXilitla\, 1946. Leonora Carrington entra al jardín surrealista construido por Edward James\, iniciando un viaje entre la realidad y el delirio que nos llevará desde su infancia en Inglaterra hasta el México de mitad del s. XX. Basado en la novela de Elena Poniatowska\, LEONORA es el retrato de una mujer que desde su juventud mostró una ferviente rebeldía y resiliencia a través de sus actos y su pintura\, convirtiéndose en una de las artistas surrealistas más importantes en la historia del arte\, tanto en México como fuera de sus fronteras. 15\, 20\, 26 septiembre 9 PM / 17\, 23 septiembre 6 PM
URL:https://www.kinoki.com.mx/funcion/estreno-leonora-3/
LOCATION:Kinoki\, Belisario Domínguez #5\, San Cristóbal de Las Casas\, Chiapas\, 29246\, Mexico
CATEGORIES:estreno
END:VEVENT
END:VCALENDAR