BEGIN:VCALENDAR
VERSION:2.0
PRODID:-//Kinoki - ECPv6.15.18//NONSGML v1.0//EN
CALSCALE:GREGORIAN
METHOD:PUBLISH
X-ORIGINAL-URL:https://www.kinoki.com.mx
X-WR-CALDESC:Eventos para Kinoki
REFRESH-INTERVAL;VALUE=DURATION:PT1H
X-Robots-Tag:noindex
X-PUBLISHED-TTL:PT1H
BEGIN:VTIMEZONE
TZID:America/Monterrey
BEGIN:STANDARD
TZOFFSETFROM:-0600
TZOFFSETTO:-0600
TZNAME:CST
DTSTART:20240101T000000
END:STANDARD
END:VTIMEZONE
BEGIN:VEVENT
DTSTART;TZID=America/Monterrey:20250801T180000
DTEND;TZID=America/Monterrey:20250801T193000
DTSTAMP:20260420T101731
CREATED:20250801T103843Z
LAST-MODIFIED:20250801T103843Z
UID:7029-1754071200-1754076600@www.kinoki.com.mx
SUMMARY:CINE INFANTIL. MORBITO: EL ÁNGEL EN EL RELOJ. ENTRADA LIBRE
DESCRIPTION:Miguel Angel Uriegas. México\, 2017. Animación. 85 min. A \nAmelia es una niña que vive con una grave enfermedad. Por eso\, desea detener el tiempo. Este deseo la llevará a vivir una extraordinaria aventura en un mundo fantástico donde se encontrará con nuevos y originales amigos\, y aprenderá que lo importante es vivir el presente.  \n1 agosto 6 pm. ENTRADA LIBRE
URL:https://www.kinoki.com.mx/funcion/cine-infantil-morbito-el-angel-en-el-reloj-entrada-libre/
LOCATION:Kinoki\, Belisario Domínguez #5\, San Cristóbal de Las Casas\, Chiapas\, 29246\, Mexico
CATEGORIES:Cine infantil
END:VEVENT
BEGIN:VEVENT
DTSTART;TZID=America/Monterrey:20250808T180000
DTEND;TZID=America/Monterrey:20250808T200000
DTSTAMP:20260420T101731
CREATED:20250801T105454Z
LAST-MODIFIED:20250801T105454Z
UID:7059-1754676000-1754683200@www.kinoki.com.mx
SUMMARY:CINE INFANTIL. MORBITO: LA INCREÍBLE HISTORIA DEL NIÑO DE PIEDRA. ENTRADA LIBRE
DESCRIPTION:Pablo Aldrete\, Miguel Bonilla\, Jaime Romandia\, Miguel Ángel Uriegas. México\, 2015. Animación. 70 min. A \nMarina y sus primos\, Tito\, Tato y Teté\, viven en un colorido valle tropical de la Huasteca Tamaulipeca. Un día\, la feria llega a su pueblo. En ella encuentran al Niño de Piedra\, quien se quedó así por haberse enojado con la Vida. Marina y sus primos harán un viaje fantástico al Lejano país de los Sentidos\, donde sus habitantes\, las Orejas\, Manos\, Ojos\, Bocas y Narices\, ayudarán al Niño de Piedra a recuperar la forma humana. 8 agosto 6 pm. ENTRADA LIBRE \n 
URL:https://www.kinoki.com.mx/funcion/cine-infantil-morbito-la-increible-historia-del-nino-de-piedra-entrada-libre/
LOCATION:Kinoki\, Belisario Domínguez #5\, San Cristóbal de Las Casas\, Chiapas\, 29246\, Mexico
CATEGORIES:Cine infantil
END:VEVENT
BEGIN:VEVENT
DTSTART;TZID=America/Monterrey:20250809T170000
DTEND;TZID=America/Monterrey:20250809T190000
DTSTAMP:20260420T101731
CREATED:20250801T105923Z
LAST-MODIFIED:20250801T105923Z
UID:7063-1754758800-1754766000@www.kinoki.com.mx
SUMMARY:MORBITO: LA INCREÍBLE HISTORIA DEL NIÑO DE PIEDRA
DESCRIPTION: Pablo Aldrete\, Miguel Bonilla\, Jaime Romandia\, Miguel Ángel Uriegas. México\, 2015. Animación. 70 min. A \nMarina y sus primos\, Tito\, Tato y Teté\, viven en un colorido valle tropical de la Huasteca Tamaulipeca. Un día\, la feria llega a su pueblo. En ella encuentran al Niño de Piedra\, quien se quedó así por haberse enojado con la Vida. Marina y sus primos harán un viaje fantástico al Lejano país de los Sentidos\, donde sus habitantes\, las Orejas\, Manos\, Ojos\, Bocas y Narices\, ayudarán al Niño de Piedra a recuperar la forma humana.  9 agosto 5 pm
URL:https://www.kinoki.com.mx/funcion/morbito-la-increible-historia-del-nino-de-piedra/
LOCATION:KINOKI Tenejapa\, Paraiso #3\, Tenejapa\, Chiapas\, 29480\, Mexico
CATEGORIES:Cine infantil,estreno
END:VEVENT
BEGIN:VEVENT
DTSTART;TZID=America/Monterrey:20250810T180000
DTEND;TZID=America/Monterrey:20250810T200000
DTSTAMP:20260420T101731
CREATED:20250801T110059Z
LAST-MODIFIED:20250801T110059Z
UID:7065-1754848800-1754856000@www.kinoki.com.mx
SUMMARY:ESTRENO: SIROCCO Y EL REINO DE LOS VIENTOS
DESCRIPTION:Benoît Chieux. Francia\, 2023. 80 min. Animación. AA \nJuliette y Carmen\, de 4 y 8 años\, son dos intrépidas hermanas que descubren un pasaje secreto hacia el mundo de su libro favorito: El Reino de los Vientos. Transformadas en gatas\, las hermanas son encarceladas y separadas\, tendrán que hacer mostrar su valentía y audacia para reencontrarse y volver al mundo real. Con la ayuda de la cantante Selma\, se enfrentarán a Sirocco\, el terrible mago\, Maestro de los vientos y las tormentas… ¿será tan aterrador como sugieren los libros?  \n2\, 5\, 10\, 26\, 29 agosto 6 pm 
URL:https://www.kinoki.com.mx/funcion/estreno-sirocco-y-el-reino-de-los-vientos-6/
LOCATION:Kinoki\, Belisario Domínguez #5\, San Cristóbal de Las Casas\, Chiapas\, 29246\, Mexico
CATEGORIES:Cine infantil,estreno
END:VEVENT
BEGIN:VEVENT
DTSTART;TZID=America/Monterrey:20250815T180000
DTEND;TZID=America/Monterrey:20250815T200000
DTSTAMP:20260420T101731
CREATED:20250801T112156Z
LAST-MODIFIED:20250801T112156Z
UID:7091-1755280800-1755288000@www.kinoki.com.mx
SUMMARY:CINE INFANTIL. MORBITO: LA FÓRMULA DEL DOCTOR FUNES. ENTRADA LIBRE
DESCRIPTION: José Buil. México\, 2014. Comedia infantil. 82 min. A \nMartin Poyo encuentra con su telescopio al viejo doctor Funes cuando este descubre la fórmula de la juventud. El viejo desea volver a ser joven para huir del malvado Moebius\, pero la fórmula falla y se convierte en un niño de doce años que invade el hogar de Martín. Los amigos utilizan la fórmula para hacer el bien sin mirar a quién. 15 agosto 6 pm. ENTRADA LIBRE
URL:https://www.kinoki.com.mx/funcion/cine-infantil-morbito-la-formula-del-doctor-funes-entrada-libre/
LOCATION:Kinoki\, Belisario Domínguez #5\, San Cristóbal de Las Casas\, Chiapas\, 29246\, Mexico
CATEGORIES:Cine infantil,estreno
END:VEVENT
BEGIN:VEVENT
DTSTART;TZID=America/Monterrey:20250816T170000
DTEND;TZID=America/Monterrey:20250816T190000
DTSTAMP:20260420T101731
CREATED:20250801T112449Z
LAST-MODIFIED:20250801T112449Z
UID:7095-1755363600-1755370800@www.kinoki.com.mx
SUMMARY:MORBITO: LA FÓRMULA DEL DOCTOR FUNES
DESCRIPTION: José Buil. México\, 2014. Comedia infantil. 82 min. A \nMartin Poyo encuentra con su telescopio al viejo doctor Funes cuando este descubre la fórmula de la juventud. El viejo desea volver a ser joven para huir del malvado Moebius\, pero la fórmula falla y se convierte en un niño de doce años que invade el hogar de Martín. Los amigos utilizan la fórmula para hacer el bien sin mirar a quién. 16 agosto 5 pm
URL:https://www.kinoki.com.mx/funcion/morbito-la-formula-del-doctor-funes/
LOCATION:KINOKI Tenejapa\, Paraiso #3\, Tenejapa\, Chiapas\, 29480\, Mexico
CATEGORIES:Cine infantil,estreno
END:VEVENT
BEGIN:VEVENT
DTSTART;TZID=America/Monterrey:20250822T180000
DTEND;TZID=America/Monterrey:20250822T200000
DTSTAMP:20260420T101731
CREATED:20250801T113430Z
LAST-MODIFIED:20250801T113430Z
UID:7124-1755885600-1755892800@www.kinoki.com.mx
SUMMARY:CINE INFANTIL. MORBITO: ZURDO. ENTRADA LIBRE
DESCRIPTION:Carlos Salces. México\, 2003. Fantasía. 106 min. A \nZurdo es un niño que vive en la localidad de Buenaventura. Por medio de su astucia y destreza para jugar a las canicas es admirado por su gente\, pero todo se complica cuando un forastero dice conocer al mejor jugador de canicas\, retándole a un duelo. El reto provoca en los habitantes del barrio una reacción desmedida por apoyar a su pequeño héroe\, en quien depositan sus sueños y esperanzas. Cuando Zurdo está a punto de ganar más que un juego de canicas\, la autoridad del lugar interviene haciendo trampa en su contra\, y es aquí donde Zurdo debe tomar la decisión de sacrificarse para vencer al mal y convertirse en un héroe legendario. 22 agosto 6 pm. ENTRADA LIBRE
URL:https://www.kinoki.com.mx/funcion/cine-infantil-morbito-zurdo-entrada-libre/
LOCATION:Kinoki\, Belisario Domínguez #5\, San Cristóbal de Las Casas\, Chiapas\, 29246\, Mexico
CATEGORIES:Cine infantil,estreno
END:VEVENT
BEGIN:VEVENT
DTSTART;TZID=America/Monterrey:20250823T170000
DTEND;TZID=America/Monterrey:20250823T190000
DTSTAMP:20260420T101731
CREATED:20250801T113821Z
LAST-MODIFIED:20250801T115439Z
UID:7128-1755968400-1755975600@www.kinoki.com.mx
SUMMARY:MORBITO: ZURDO
DESCRIPTION:Carlos Salces. México\, 2003. Fantasía. 106 min. A \nZurdo es un niño que vive en la localidad de Buenaventura. Por medio de su astucia y destreza para jugar a las canicas es admirado por su gente\, pero todo se complica cuando un forastero dice conocer al mejor jugador de canicas\, retándole a un duelo. El reto provoca en los habitantes del barrio una reacción desmedida por apoyar a su pequeño héroe\, en quien depositan sus sueños y esperanzas. Cuando Zurdo está a punto de ganar más que un juego de canicas\, la autoridad del lugar interviene haciendo trampa en su contra\, y es aquí donde Zurdo debe tomar la decisión de sacrificarse para vencer al mal y convertirse en un héroe legendario.
URL:https://www.kinoki.com.mx/funcion/morbito-zurdo/
LOCATION:KINOKI Tenejapa\, Paraiso #3\, Tenejapa\, Chiapas\, 29480\, Mexico
CATEGORIES:Cine infantil
END:VEVENT
BEGIN:VEVENT
DTSTART;TZID=America/Monterrey:20250826T180000
DTEND;TZID=America/Monterrey:20250826T200000
DTSTAMP:20260420T101731
CREATED:20250801T114222Z
LAST-MODIFIED:20250801T114222Z
UID:7134-1756231200-1756238400@www.kinoki.com.mx
SUMMARY:ESTRENO: SIROCCO Y EL REINO DE LOS VIENTOS
DESCRIPTION: Benoît Chieux. Francia\, 2023. 80 min. Animación. AA \nJuliette y Carmen\, de 4 y 8 años\, son dos intrépidas hermanas que descubren un pasaje secreto hacia el mundo de su libro favorito: El Reino de los Vientos. Transformadas en gatas\, las hermanas son encarceladas y separadas\, tendrán que hacer mostrar su valentía y audacia para reencontrarse y volver al mundo real. Con la ayuda de la cantante Selma\, se enfrentarán a Sirocco\, el terrible mago\, Maestro de los vientos y las tormentas… ¿será tan aterrador como sugieren los libros?  \n2\, 5\, 10\, 26\, 29 agosto 6 pm 
URL:https://www.kinoki.com.mx/funcion/estreno-sirocco-y-el-reino-de-los-vientos-7/
LOCATION:Kinoki\, Belisario Domínguez #5\, San Cristóbal de Las Casas\, Chiapas\, 29246\, Mexico
CATEGORIES:Cine infantil,estreno
END:VEVENT
BEGIN:VEVENT
DTSTART;TZID=America/Monterrey:20250829T180000
DTEND;TZID=America/Monterrey:20250829T200000
DTSTAMP:20260420T101731
CREATED:20250801T114919Z
LAST-MODIFIED:20250801T114919Z
UID:7153-1756490400-1756497600@www.kinoki.com.mx
SUMMARY:ESTRENO: SIROCCO Y EL REINO DE LOS VIENTOS
DESCRIPTION:Benoît Chieux. Francia\, 2023. 80 min. Animación. AA \nJuliette y Carmen\, de 4 y 8 años\, son dos intrépidas hermanas que descubren un pasaje secreto hacia el mundo de su libro favorito: El Reino de los Vientos. Transformadas en gatas\, las hermanas son encarceladas y separadas\, tendrán que hacer mostrar su valentía y audacia para reencontrarse y volver al mundo real. Con la ayuda de la cantante Selma\, se enfrentarán a Sirocco\, el terrible mago\, Maestro de los vientos y las tormentas… ¿será tan aterrador como sugieren los libros?  \n2\, 5\, 10\, 26\, 29 agosto 6 pm 
URL:https://www.kinoki.com.mx/funcion/estreno-sirocco-y-el-reino-de-los-vientos-8/
LOCATION:Kinoki\, Belisario Domínguez #5\, San Cristóbal de Las Casas\, Chiapas\, 29246\, Mexico
CATEGORIES:Cine infantil,estreno
END:VEVENT
BEGIN:VEVENT
DTSTART;TZID=America/Monterrey:20250830T170000
DTEND;TZID=America/Monterrey:20250830T190000
DTSTAMP:20260420T101731
CREATED:20250801T115140Z
LAST-MODIFIED:20250801T115536Z
UID:7157-1756573200-1756580400@www.kinoki.com.mx
SUMMARY:MORBITO: A LEYENDA DE LOS CHANEQUES
DESCRIPTION:Marvick Núñez. México\, 2023. Animación. 89 min. A \nCinco años después de haber renunciado a sus poderes\, Leo San Juan se encuentra en Veracruz acompañando a Nando cuando una antigua maldición local regresa. Esta vez\, Leo no tiene poderes\, no tiene amigos\, tiempo y\, al parecer… tampoco oportunidad. 29 agosto 5 pm
URL:https://www.kinoki.com.mx/funcion/morbito-a-leyenda-de-los-chaneques/
LOCATION:KINOKI Tenejapa\, Paraiso #3\, Tenejapa\, Chiapas\, 29480\, Mexico
CATEGORIES:Cine infantil
END:VEVENT
BEGIN:VEVENT
DTSTART;TZID=America/Monterrey:20250831T180000
DTEND;TZID=America/Monterrey:20250831T200000
DTSTAMP:20260420T101731
CREATED:20250801T115306Z
LAST-MODIFIED:20250801T115306Z
UID:7171-1756663200-1756670400@www.kinoki.com.mx
SUMMARY:CINE INFANTIL. MORBITO: LA LEYENDA DE LOS CHANEQUES. ENTRADA LIBRE
DESCRIPTION: Marvick Núñez. México\, 2023. Animación. 89 min. A \nCinco años después de haber renunciado a sus poderes\, Leo San Juan se encuentra en Veracruz acompañando a Nando cuando una antigua maldición local regresa. Esta vez\, Leo no tiene poderes\, no tiene amigos\, tiempo y\, al parecer… tampoco oportunidad. 31 agosto 6 pm. ENTRADA LIBRE
URL:https://www.kinoki.com.mx/funcion/cine-infantil-morbito-la-leyenda-de-los-chaneques-entrada-libre/
LOCATION:Kinoki\, Belisario Domínguez #5\, San Cristóbal de Las Casas\, Chiapas\, 29246\, Mexico
CATEGORIES:Cine infantil
END:VEVENT
END:VCALENDAR