BEGIN:VCALENDAR
VERSION:2.0
PRODID:-//Kinoki - ECPv6.15.18//NONSGML v1.0//EN
CALSCALE:GREGORIAN
METHOD:PUBLISH
X-ORIGINAL-URL:https://www.kinoki.com.mx
X-WR-CALDESC:Eventos para Kinoki
REFRESH-INTERVAL;VALUE=DURATION:PT1H
X-Robots-Tag:noindex
X-PUBLISHED-TTL:PT1H
BEGIN:VTIMEZONE
TZID:America/Monterrey
BEGIN:STANDARD
TZOFFSETFROM:-0600
TZOFFSETTO:-0600
TZNAME:CST
DTSTART:20240101T000000
END:STANDARD
END:VTIMEZONE
BEGIN:VEVENT
DTSTART;TZID=America/Monterrey:20250815T180000
DTEND;TZID=America/Monterrey:20250815T200000
DTSTAMP:20260420T120712
CREATED:20250801T112156Z
LAST-MODIFIED:20250801T112156Z
UID:7091-1755280800-1755288000@www.kinoki.com.mx
SUMMARY:CINE INFANTIL. MORBITO: LA FÓRMULA DEL DOCTOR FUNES. ENTRADA LIBRE
DESCRIPTION: José Buil. México\, 2014. Comedia infantil. 82 min. A \nMartin Poyo encuentra con su telescopio al viejo doctor Funes cuando este descubre la fórmula de la juventud. El viejo desea volver a ser joven para huir del malvado Moebius\, pero la fórmula falla y se convierte en un niño de doce años que invade el hogar de Martín. Los amigos utilizan la fórmula para hacer el bien sin mirar a quién. 15 agosto 6 pm. ENTRADA LIBRE
URL:https://www.kinoki.com.mx/funcion/cine-infantil-morbito-la-formula-del-doctor-funes-entrada-libre/
LOCATION:Kinoki\, Belisario Domínguez #5\, San Cristóbal de Las Casas\, Chiapas\, 29246\, Mexico
CATEGORIES:Cine infantil,estreno
END:VEVENT
END:VCALENDAR