BEGIN:VCALENDAR
VERSION:2.0
PRODID:-//Kinoki - ECPv6.15.18//NONSGML v1.0//EN
CALSCALE:GREGORIAN
METHOD:PUBLISH
X-WR-CALNAME:Kinoki
X-ORIGINAL-URL:https://www.kinoki.com.mx
X-WR-CALDESC:Eventos para Kinoki
REFRESH-INTERVAL;VALUE=DURATION:PT1H
X-Robots-Tag:noindex
X-PUBLISHED-TTL:PT1H
BEGIN:VTIMEZONE
TZID:America/Monterrey
BEGIN:STANDARD
TZOFFSETFROM:-0600
TZOFFSETTO:-0600
TZNAME:CST
DTSTART:20240101T000000
END:STANDARD
END:VTIMEZONE
BEGIN:VEVENT
DTSTART;TZID=America/Monterrey:20250816T170000
DTEND;TZID=America/Monterrey:20250816T190000
DTSTAMP:20260420T120253
CREATED:20250801T112449Z
LAST-MODIFIED:20250801T112449Z
UID:7095-1755363600-1755370800@www.kinoki.com.mx
SUMMARY:MORBITO: LA FÓRMULA DEL DOCTOR FUNES
DESCRIPTION: José Buil. México\, 2014. Comedia infantil. 82 min. A \nMartin Poyo encuentra con su telescopio al viejo doctor Funes cuando este descubre la fórmula de la juventud. El viejo desea volver a ser joven para huir del malvado Moebius\, pero la fórmula falla y se convierte en un niño de doce años que invade el hogar de Martín. Los amigos utilizan la fórmula para hacer el bien sin mirar a quién. 16 agosto 5 pm
URL:https://www.kinoki.com.mx/funcion/morbito-la-formula-del-doctor-funes/
LOCATION:KINOKI Tenejapa\, Paraiso #3\, Tenejapa\, Chiapas\, 29480\, Mexico
CATEGORIES:Cine infantil,estreno
END:VEVENT
END:VCALENDAR