BEGIN:VCALENDAR
VERSION:2.0
PRODID:-//Kinoki - ECPv6.15.18//NONSGML v1.0//EN
CALSCALE:GREGORIAN
METHOD:PUBLISH
X-ORIGINAL-URL:https://www.kinoki.com.mx
X-WR-CALDESC:Eventos para Kinoki
REFRESH-INTERVAL;VALUE=DURATION:PT1H
X-Robots-Tag:noindex
X-PUBLISHED-TTL:PT1H
BEGIN:VTIMEZONE
TZID:America/Monterrey
BEGIN:STANDARD
TZOFFSETFROM:-0600
TZOFFSETTO:-0600
TZNAME:CST
DTSTART:20240101T000000
END:STANDARD
END:VTIMEZONE
BEGIN:VEVENT
DTSTART;TZID=America/Monterrey:20250831T180000
DTEND;TZID=America/Monterrey:20250831T200000
DTSTAMP:20260420T120631
CREATED:20250801T115306Z
LAST-MODIFIED:20250801T115306Z
UID:7171-1756663200-1756670400@www.kinoki.com.mx
SUMMARY:CINE INFANTIL. MORBITO: LA LEYENDA DE LOS CHANEQUES. ENTRADA LIBRE
DESCRIPTION: Marvick Núñez. México\, 2023. Animación. 89 min. A \nCinco años después de haber renunciado a sus poderes\, Leo San Juan se encuentra en Veracruz acompañando a Nando cuando una antigua maldición local regresa. Esta vez\, Leo no tiene poderes\, no tiene amigos\, tiempo y\, al parecer… tampoco oportunidad. 31 agosto 6 pm. ENTRADA LIBRE
URL:https://www.kinoki.com.mx/funcion/cine-infantil-morbito-la-leyenda-de-los-chaneques-entrada-libre/
LOCATION:Kinoki\, Belisario Domínguez #5\, San Cristóbal de Las Casas\, Chiapas\, 29246\, Mexico
CATEGORIES:Cine infantil
END:VEVENT
END:VCALENDAR