BEGIN:VCALENDAR
VERSION:2.0
PRODID:-//Kinoki - ECPv6.15.18//NONSGML v1.0//EN
CALSCALE:GREGORIAN
METHOD:PUBLISH
X-WR-CALNAME:Kinoki
X-ORIGINAL-URL:https://www.kinoki.com.mx
X-WR-CALDESC:Eventos para Kinoki
REFRESH-INTERVAL;VALUE=DURATION:PT1H
X-Robots-Tag:noindex
X-PUBLISHED-TTL:PT1H
BEGIN:VTIMEZONE
TZID:America/Monterrey
BEGIN:STANDARD
TZOFFSETFROM:-0600
TZOFFSETTO:-0600
TZNAME:CST
DTSTART:20240101T000000
END:STANDARD
END:VTIMEZONE
BEGIN:VEVENT
DTSTART;TZID=America/Monterrey:20251005T120000
DTEND;TZID=America/Monterrey:20251005T140000
DTSTAMP:20260420T043729
CREATED:20250929T184054Z
LAST-MODIFIED:20250930T114808Z
UID:7353-1759665600-1759672800@www.kinoki.com.mx
SUMMARY:OCOTE. PROGRAMA INFANTIL. ENTRADA LIBRE
DESCRIPTION:Programación infantil. 5 de octubre. 12  pm \n\n“Saber perdonar” (2023)\, 10:54 min.\, Prod. El Rebozo\, Tsomanotik y Cinetiqueta \n\n\n“El oscuro secreto del padre perdido” (2025)\, 7:12 min.\, Prod.  Mundo de Talentos\, Cinetiqueta \n\n\n“Cuida tus amistades” (2025)\, 7:23 min.\, Prod. El Rebozo\, Tsomanotik y Cinetiqueta \n\n\n“Cultivando el arte” (2024)\, 20:29 min.\, Prod. El Semillero y Cinetiqueta\n\n\n“Los tres heroicos” (2024)\, 6:12 min. \, Prod. La Luciérnaga\n\n\n“Videopostales Huajintlán: La Feria” (2019)\, 9:24 min. \, Prod. La Luciérnaga
URL:https://www.kinoki.com.mx/funcion/ocote-programa-infantil-entrada-libre/
LOCATION:Kinoki\, Belisario Domínguez #5\, San Cristóbal de Las Casas\, Chiapas\, 29246\, Mexico
CATEGORIES:Cine infantil,Ocote
END:VEVENT
END:VCALENDAR