BEGIN:VCALENDAR
VERSION:2.0
PRODID:-//Kinoki - ECPv6.15.18//NONSGML v1.0//EN
CALSCALE:GREGORIAN
METHOD:PUBLISH
X-ORIGINAL-URL:https://www.kinoki.com.mx
X-WR-CALDESC:Eventos para Kinoki
REFRESH-INTERVAL;VALUE=DURATION:PT1H
X-Robots-Tag:noindex
X-PUBLISHED-TTL:PT1H
BEGIN:VTIMEZONE
TZID:America/Monterrey
BEGIN:STANDARD
TZOFFSETFROM:-0600
TZOFFSETTO:-0600
TZNAME:CST
DTSTART:20250101T000000
END:STANDARD
END:VTIMEZONE
BEGIN:VEVENT
DTSTART;TZID=America/Monterrey:20260227T170000
DTEND;TZID=America/Monterrey:20260227T190000
DTSTAMP:20260419T065918
CREATED:20260202T125241Z
LAST-MODIFIED:20260202T130039Z
UID:8330-1772211600-1772218800@www.kinoki.com.mx
SUMMARY:LA HORA DE LA ESTRELLA
DESCRIPTION:Suzana Amaral. Brasil\, 1985. Drama. 95 min. *Restaurada en 4k  \nMacabéa\, una joven huérfana de 19 años\, analfabeta\, ingenua y virgen\, deja el nordeste de Brasil en busca de mejores oportunidades en São Paulo. Ahí enfrenta sus primeras experiencias laborales\, el primer amor y las inquietantes predicciones de una vidente: una colisión de mundos que marcará su destino. Premios y festivales destacados: Premio a Mejor Película – Festival de Cine Latinoamericano de La Habana (1985). Oso de Plata a Mejor Actriz para Marcélia Cartaxo – Festival de Berlín (1986). Premio de la Crítica a Mejor Película – Festival de Berlín (1986). Selección en la 77ª Muestra Internacional de Cine de la Cineteca Nacional (2025)
URL:https://www.kinoki.com.mx/funcion/la-hora-de-la-estrella-2/
LOCATION:Kinoki\, Belisario Domínguez #5\, San Cristóbal de Las Casas\, Chiapas\, 29246\, Mexico
CATEGORIES:estreno,Eventos Especiales
ATTACH;FMTTYPE=image/png:https://www.kinoki.com.mx/wp-content/uploads/2026/02/Lahoradelaestrella_CARTELOFICIAL-5.png
END:VEVENT
BEGIN:VEVENT
DTSTART;TZID=America/Monterrey:20260227T190000
DTEND;TZID=America/Monterrey:20260227T210000
DTSTAMP:20260419T065918
CREATED:20260202T125330Z
LAST-MODIFIED:20260202T130948Z
UID:8331-1772218800-1772226000@www.kinoki.com.mx
SUMMARY:FUMAR PROVOCA TOS
DESCRIPTION:Quentin Dupieux. Francia\, 2022. Comedia. 80 min. Francés\, subtítulos en español.  \nDespués de una batalla devastadora contra una tortuga malvada\, un grupo de cinco superhéroes\, conocido como la Tabaco Rangers\, es enviado a un retiro obligatorio para fortalecer la unión como grupo\, ya que se ha visto afectada. Su estancia transcurre sin problemas hasta que Reptilio\, el Emperador del Mal\, decide aniquilar el planeta Tierra…
URL:https://www.kinoki.com.mx/funcion/fumar-provoca-tos-7/
LOCATION:Kinoki\, Belisario Domínguez #5\, San Cristóbal de Las Casas\, Chiapas\, 29246\, Mexico
CATEGORIES:estreno
ATTACH;FMTTYPE=image/jpeg:https://www.kinoki.com.mx/wp-content/uploads/2026/01/Fumar-provoca-tos-poster-2.jpg
END:VEVENT
END:VCALENDAR