BEGIN:VCALENDAR
VERSION:2.0
PRODID:-//Kinoki - ECPv6.15.18//NONSGML v1.0//EN
CALSCALE:GREGORIAN
METHOD:PUBLISH
X-ORIGINAL-URL:https://www.kinoki.com.mx
X-WR-CALDESC:Eventos para Kinoki
REFRESH-INTERVAL;VALUE=DURATION:PT1H
X-Robots-Tag:noindex
X-PUBLISHED-TTL:PT1H
BEGIN:VTIMEZONE
TZID:America/Monterrey
BEGIN:STANDARD
TZOFFSETFROM:-0600
TZOFFSETTO:-0600
TZNAME:CST
DTSTART:20250101T000000
END:STANDARD
END:VTIMEZONE
BEGIN:VEVENT
DTSTART;TZID=America/Monterrey:20260319T170000
DTEND;TZID=America/Monterrey:20260319T190000
DTSTAMP:20260419T065928
CREATED:20260224T112015Z
LAST-MODIFIED:20260304T125507Z
UID:8498-1773939600-1773946800@www.kinoki.com.mx
SUMMARY:DEDO DE NOVIA
DESCRIPTION:Gissel Elías Karam. México\, 2024. Documental. 64 min. Español subtítulos en español \nEl retrato íntimo de una pareja libanesa/mexicana desde la mirada de Giselle\, su hija menor. La película\, hecha con material de archivo documentado por la directora\, nos muestra la cotidianidad del matrimonio de sus padres después de 48 años juntos; los conflictos\, los momentos tristes y felices y sobre todo\, los marcados roles de género. Un documental que nos invita a reflexionar sobre los modelos dictados por una sociedad cerrada en sus tradiciones\, y explora la búsqueda de la identidad fuera de estas reglas.
URL:https://www.kinoki.com.mx/funcion/volver-a-vivir-5/
LOCATION:Kinoki\, Belisario Domínguez #5\, San Cristóbal de Las Casas\, Chiapas\, 29246\, Mexico
CATEGORIES:estreno
ATTACH;FMTTYPE=image/jpeg:https://www.kinoki.com.mx/wp-content/uploads/2026/02/Volver-a-vivir-Feed-Ig.jpg
END:VEVENT
BEGIN:VEVENT
DTSTART;TZID=America/Monterrey:20260319T190000
DTEND;TZID=America/Monterrey:20260319T210000
DTSTAMP:20260419T065928
CREATED:20260224T112046Z
LAST-MODIFIED:20260224T112046Z
UID:8499-1773946800-1773954000@www.kinoki.com.mx
SUMMARY:MI NO LUGAR
DESCRIPTION:Isis Ahumada Monroy. México\, 2022. Documental. 74 min. Español\, subtítulos en español. A \nMi no lugar retrata con sensibilidad una herida abierta en México: la explotación laboral infantil. Jonathan es un adolescente que migra para estudiar la secundaria\, impulsado por la ilusión de sus padres —jornaleros de caña—. Sin embargo\, se enfrenta a una realidad compleja donde la promesa de un mejor futuro se ve constantemente puesta a prueba. \n  \nFestivales y Reconocimientos \nScoprir Mostra di Cinema Iberoamericano. 2023 \nVancouver Latin American Film Festival.2023 \nAmbulante gira de documentales. 2023 \nFestival Doqumenta\, Mención honorífica. 2023 \nFestival de Cine de Manzanillo.2023 \nRodando Film Festival. 2022 \nZanate Festival de cine documental mexicano (película invitada). 2022 \nFestival Internacional de Cine de Morelia.2022 \n 
URL:https://www.kinoki.com.mx/funcion/mi-no-lugar-5/
LOCATION:Kinoki\, Belisario Domínguez #5\, San Cristóbal de Las Casas\, Chiapas\, 29246\, Mexico
CATEGORIES:estreno
ATTACH;FMTTYPE=image/jpeg:https://www.kinoki.com.mx/wp-content/uploads/2026/02/MNL_CARTEL_1080x1920.jpg
END:VEVENT
END:VCALENDAR