BEGIN:VCALENDAR
VERSION:2.0
PRODID:-//Kinoki - ECPv6.15.18//NONSGML v1.0//EN
CALSCALE:GREGORIAN
METHOD:PUBLISH
X-ORIGINAL-URL:https://www.kinoki.com.mx
X-WR-CALDESC:Eventos para Kinoki
REFRESH-INTERVAL;VALUE=DURATION:PT1H
X-Robots-Tag:noindex
X-PUBLISHED-TTL:PT1H
BEGIN:VTIMEZONE
TZID:America/Monterrey
BEGIN:STANDARD
TZOFFSETFROM:-0600
TZOFFSETTO:-0600
TZNAME:CST
DTSTART:20250101T000000
END:STANDARD
END:VTIMEZONE
BEGIN:VEVENT
DTSTART;TZID=America/Monterrey:20260321T210000
DTEND;TZID=America/Monterrey:20260321T230000
DTSTAMP:20260419T063324
CREATED:20260304T130140Z
LAST-MODIFIED:20260304T130140Z
UID:8529-1774126800-1774134000@www.kinoki.com.mx
SUMMARY:MI NO LUGAR
DESCRIPTION: Isis Ahumada Monroy. México\, 2022. Documental. 74 min. Español\, subtítulos en español. A \nMi no lugar retrata con sensibilidad una herida abierta en México: la explotación laboral infantil. Jonathan es un adolescente que migra para estudiar la secundaria\, impulsado por la ilusión de sus padres —jornaleros de caña—. Sin embargo\, se enfrenta a una realidad compleja donde la promesa de un mejor futuro se ve constantemente puesta a prueba. \n  \nFestivales y Reconocimientos \nScoprir Mostra di Cinema Iberoamericano. 2023 \nVancouver Latin American Film Festival.2023 \nAmbulante gira de documentales. 2023 \nFestival Doqumenta\, Mención honorífica. 2023 \nFestival de Cine de Manzanillo.2023 \nRodando Film Festival. 2022 \nZanate Festival de cine documental mexicano (película invitada). 2022 \nFestival Internacional de Cine de Morelia.2022 \n 
URL:https://www.kinoki.com.mx/funcion/mi-no-lugar-6/
LOCATION:Kinoki\, Belisario Domínguez #5\, San Cristóbal de Las Casas\, Chiapas\, 29246\, Mexico
CATEGORIES:estreno
ATTACH;FMTTYPE=image/jpeg:https://www.kinoki.com.mx/wp-content/uploads/2026/02/MNL_CARTEL_1080x1920.jpg
END:VEVENT
END:VCALENDAR