BEGIN:VCALENDAR
VERSION:2.0
PRODID:-//Kinoki - ECPv6.15.18//NONSGML v1.0//EN
CALSCALE:GREGORIAN
METHOD:PUBLISH
X-WR-CALNAME:Kinoki
X-ORIGINAL-URL:https://www.kinoki.com.mx
X-WR-CALDESC:Eventos para Kinoki
REFRESH-INTERVAL;VALUE=DURATION:PT1H
X-Robots-Tag:noindex
X-PUBLISHED-TTL:PT1H
BEGIN:VTIMEZONE
TZID:America/Monterrey
BEGIN:STANDARD
TZOFFSETFROM:-0600
TZOFFSETTO:-0600
TZNAME:CST
DTSTART:20250101T000000
END:STANDARD
END:VTIMEZONE
BEGIN:VEVENT
DTSTART;TZID=America/Monterrey:20260327T190000
DTEND;TZID=America/Monterrey:20260327T210000
DTSTAMP:20260419T062934
CREATED:20260304T131711Z
LAST-MODIFIED:20260304T131711Z
UID:8552-1774638000-1774645200@www.kinoki.com.mx
SUMMARY:#300CARTAS
DESCRIPTION:Lucas Santa Ana. Argentina-Reino Unido\, 2024. Comedia. 90 min. Español sin subtítulos.  \nJero y Tom son la pareja perfecta\, hasta que no lo son más… En su primer aniversario\, Tom abandona a Jero y le deja una caja con 300 cartas como única explicación. Mientras Jero las lee\, descubre en Tom a otra persona\, y una historia de amor muy diferente. Pero todo dolor tiene su fin y la esperanza de un nuevo amor podría ser la cura para el sufrimiento. Una nueva visión del fin de una relación\, a través de una cautivadora comedia romántica del director de “Yo\, Adolescente”. \n  \nPREMIERE MUNDIAL \nROZEFILMDAGEN Amsterdam\, March 2025 \n  \nFestivales:  \nLovers\, Torino LGBT FF\, Wicked Queer\, Boston\, Reel Out Charlotte\, MostraOut\, Mallorca\, Puerto Rico Queer Film Fest\, FIRE Barcelona\, Frameline\, San Francisco\, Mix México\, DIGO LGBT Film Festival\, Brazil\, FilmOut San Diego\, Outfest Perú\, Festheart Estonia\, WayOutWest\, Albuquerque\, New Mexico\, Outshine Miami\, Florida\, FIC PBA\, Buenos Aires\, Cinema Diverse\, Palm Springs\, CA\, Out Here Dayton\, EEUU\, Tel Aviv\, Israel\, MQFF\, Melbourne\, Australia\, Endimaris Sitges\, LesGaiCineMad\, Madrid.  \n  \nPremios: \nPremio del público\, Mix México\, June 2025
URL:https://www.kinoki.com.mx/funcion/300cartas-6/
LOCATION:Kinoki\, Belisario Domínguez #5\, San Cristóbal de Las Casas\, Chiapas\, 29246\, Mexico
CATEGORIES:estreno
ATTACH;FMTTYPE=image/jpeg:https://www.kinoki.com.mx/wp-content/uploads/2026/02/300cartas_AFICHE_low.jpg
END:VEVENT
END:VCALENDAR