BEGIN:VCALENDAR
VERSION:2.0
PRODID:-//Kinoki - ECPv6.15.20//NONSGML v1.0//EN
CALSCALE:GREGORIAN
METHOD:PUBLISH
X-ORIGINAL-URL:https://www.kinoki.com.mx
X-WR-CALDESC:Eventos para Kinoki
REFRESH-INTERVAL;VALUE=DURATION:PT1H
X-Robots-Tag:noindex
X-PUBLISHED-TTL:PT1H
BEGIN:VTIMEZONE
TZID:America/Monterrey
BEGIN:STANDARD
TZOFFSETFROM:-0600
TZOFFSETTO:-0600
TZNAME:CST
DTSTART:20250101T000000
END:STANDARD
END:VTIMEZONE
BEGIN:VEVENT
DTSTART;TZID=America/Monterrey:20260421T210000
DTEND;TZID=America/Monterrey:20260421T230000
DTSTAMP:20260423T050148
CREATED:20260402T003734Z
LAST-MODIFIED:20260413T121025Z
UID:8722-1776805200-1776812400@www.kinoki.com.mx
SUMMARY:Una Quinta Portuguesa
DESCRIPTION:Avelina Prat. España y Portugal\, 2024. Drama. Español y portugués\, subtítulos en español. 114 min. A \nLa desaparición de su mujer deja a Fernando\, un tranquilo profesor de geografía\, \ncompletamente devastado. Sin rumbo\, suplanta la identidad de otro hombre como jardinero de una quinta portuguesa\, donde establece una inesperada amistad con la dueña\, adentrándose en una nueva vida que no le pertenece.  \n  \nFestival de Málaga 2025 Sección Oficial. 
URL:https://www.kinoki.com.mx/funcion/8722/
LOCATION:KINOKI – SAN CRIS\, Belisario Domínguez #5\, San Cristóbal de Las Casas\, Chiapas\, 29246\, Mexico
CATEGORIES:estreno
ATTACH;FMTTYPE=image/jpeg:https://www.kinoki.com.mx/wp-content/uploads/2026/03/UnaQuintaPortuguesa_Poster_Espanol_1.jpg
END:VEVENT
END:VCALENDAR