BEGIN:VCALENDAR
VERSION:2.0
PRODID:-//Kinoki - ECPv6.15.18//NONSGML v1.0//EN
CALSCALE:GREGORIAN
METHOD:PUBLISH
X-ORIGINAL-URL:https://www.kinoki.com.mx
X-WR-CALDESC:Eventos para Kinoki
REFRESH-INTERVAL;VALUE=DURATION:PT1H
X-Robots-Tag:noindex
X-PUBLISHED-TTL:PT1H
BEGIN:VTIMEZONE
TZID:America/Monterrey
BEGIN:STANDARD
TZOFFSETFROM:-0600
TZOFFSETTO:-0600
TZNAME:CST
DTSTART:20240101T000000
END:STANDARD
END:VTIMEZONE
BEGIN:VEVENT
DTSTART;TZID=America/Monterrey:20251010T170000
DTEND;TZID=America/Monterrey:20251010T190000
DTSTAMP:20260420T024945
CREATED:20250930T104517Z
LAST-MODIFIED:20250930T115006Z
UID:7384-1760115600-1760122800@www.kinoki.com.mx
SUMMARY:OCOTE. CH'ULBE. SENDA SAGRADA. ENTRADA LIBRE
DESCRIPTION:(2023)\, 70 min.\, Dir. Humberto Gómez.  \n 
URL:https://www.kinoki.com.mx/funcion/500-ocote-chulbe-senda-sagrada-entrada-libre/
LOCATION:Kinoki\, Belisario Domínguez #5\, San Cristóbal de Las Casas\, Chiapas\, 29246\, Mexico
CATEGORIES:Ocote
END:VEVENT
END:VCALENDAR