BEGIN:VCALENDAR
VERSION:2.0
PRODID:-//Kinoki - ECPv6.15.18//NONSGML v1.0//EN
CALSCALE:GREGORIAN
METHOD:PUBLISH
X-WR-CALNAME:Kinoki
X-ORIGINAL-URL:https://www.kinoki.com.mx
X-WR-CALDESC:Eventos para Kinoki
REFRESH-INTERVAL;VALUE=DURATION:PT1H
X-Robots-Tag:noindex
X-PUBLISHED-TTL:PT1H
BEGIN:VTIMEZONE
TZID:America/Monterrey
BEGIN:STANDARD
TZOFFSETFROM:-0600
TZOFFSETTO:-0600
TZNAME:CST
DTSTART:20240101T000000
END:STANDARD
END:VTIMEZONE
BEGIN:VEVENT
DTSTART;TZID=America/Monterrey:20251115T200000
DTEND;TZID=America/Monterrey:20251115T220000
DTSTAMP:20260420T064419
CREATED:20251103T161619Z
LAST-MODIFIED:20251103T161619Z
UID:7610-1763236800-1763244000@www.kinoki.com.mx
SUMMARY:8:00 STAND UP: AQUELARRE CÓMICO
DESCRIPTION:¡Regresa Aquelarre Cómico al Kinoki! \nPrepárate para una noche de risas\,  con nuevos comediantes locales y material fresco \nHost: Ceci Cuentos\nCon: Francis Oceguera\, Paco Hidalgo\, Maxi Hamer\, Diego Ventura y Beth Barrera. \n Sábado 15 de noviembre 8 pm\n Foro Kinoki\n $150 preventa | $180 día del evento\n Aparta tu lugar en Kinoki a partir de noviembre o al 967 140 1383\n Evento para mayores de 16 años
URL:https://www.kinoki.com.mx/funcion/800-stand-up-aquelarre-comico/
LOCATION:Kinoki\, Belisario Domínguez #5\, San Cristóbal de Las Casas\, Chiapas\, 29246\, Mexico
CATEGORIES:Eventos Especiales,Stand up
END:VEVENT
END:VCALENDAR