BEGIN:VCALENDAR
VERSION:2.0
PRODID:-//Kinoki - ECPv6.15.18//NONSGML v1.0//EN
CALSCALE:GREGORIAN
METHOD:PUBLISH
X-ORIGINAL-URL:https://www.kinoki.com.mx
X-WR-CALDESC:Eventos para Kinoki
REFRESH-INTERVAL;VALUE=DURATION:PT1H
X-Robots-Tag:noindex
X-PUBLISHED-TTL:PT1H
BEGIN:VTIMEZONE
TZID:America/Monterrey
BEGIN:STANDARD
TZOFFSETFROM:-0600
TZOFFSETTO:-0600
TZNAME:CST
DTSTART:20240101T000000
END:STANDARD
END:VTIMEZONE
BEGIN:VEVENT
DTSTART;TZID=America/Monterrey:20250102T180000
DTEND;TZID=America/Monterrey:20250102T200000
DTSTAMP:20260420T230711
CREATED:20241229T204352Z
LAST-MODIFIED:20241229T204352Z
UID:6040-1735840800-1735848000@www.kinoki.com.mx
SUMMARY:Tierra de Mujeres (SUB ING)
DESCRIPTION:La Lucha por la Dignidad de las Mujeres en Chiapas\, México. Adriana Estrada. México\, 2003. Documental. 60 min. Español con subtítulos en inglés.  \nImágenes y testimonios de mujeres indígenas en Chiapas\, su ser mujer\, su ser trabajadora\, su ser madre\, hermana\, experiencias guiadas por las mismas mujeres del trabajo que cuesta ser mujer indígena en Chiapas\, los efectos del conflicto armado en sus vida y el trato que han recibido de los hombres.
URL:https://www.kinoki.com.mx/funcion/tierra-de-mujeres-sub-ing-43/
LOCATION:Kinoki\, Belisario Domínguez #5\, San Cristóbal de Las Casas\, Chiapas\, 29246\, Mexico
CATEGORIES:zapatista
END:VEVENT
BEGIN:VEVENT
DTSTART;TZID=America/Monterrey:20250103T210000
DTEND;TZID=America/Monterrey:20250103T230000
DTSTAMP:20260420T230711
CREATED:20241229T204533Z
LAST-MODIFIED:20241229T204533Z
UID:6043-1735938000-1735945200@www.kinoki.com.mx
SUMMARY:Los más Pequeños\, un Retrato del EZLN
DESCRIPTION:Maria Del Carmen Ortiz y Jose Luis Contreras\, documental\, hablado en español\, México\, 1994\, 64 min. Impactante crónica de la ardua lucha cotidiana que enfrentan el EZLN y las comunidades indígenas que habitan en el territorio rebelde para sobrevivir en el cerco. La cinta está estructurada por los testimonios de diferentes milicianos acerca de su incorporación al Ejército Zapatista.
URL:https://www.kinoki.com.mx/funcion/los-mas-pequenos-un-retrato-del-ezln-43/
LOCATION:Kinoki\, Belisario Domínguez #5\, San Cristóbal de Las Casas\, Chiapas\, 29246\, Mexico
CATEGORIES:zapatista
END:VEVENT
BEGIN:VEVENT
DTSTART;TZID=America/Monterrey:20250104T180000
DTEND;TZID=America/Monterrey:20250104T200000
DTSTAMP:20260420T230711
CREATED:20241229T204602Z
LAST-MODIFIED:20241229T204602Z
UID:6044-1736013600-1736020800@www.kinoki.com.mx
SUMMARY:Zapatistas\, Crónicas de una Rebelión (SUB ING)
DESCRIPTION:Carlos Mendoza\, Canalseisdejulio\, español subtítulos en inglés\, documental\, México\, 2003\, 120 mins. En este video documental La Jornada y canalseisdejulio presentan una crónica de 10 años del movimiento zapatista desde antes de la irrupción pública del Ejército Zapatista de Liberación Nacional\, el primero de enero de 1994\, hasta la desaparición de los Aguascalientes y la creación de los Caracoles en agosto de 2003. Incluye\, entre otros\,  entrevistas exclusivas con el subcomandante Marcos e imágenes inéditas de la resistencia. 
URL:https://www.kinoki.com.mx/funcion/zapatistas-cronicas-de-una-rebelion-sub-ing-28/
LOCATION:Kinoki\, Belisario Domínguez #5\, San Cristóbal de Las Casas\, Chiapas\, 29246\, Mexico
CATEGORIES:zapatista
END:VEVENT
BEGIN:VEVENT
DTSTART;TZID=America/Monterrey:20250106T210000
DTEND;TZID=America/Monterrey:20250106T230000
DTSTAMP:20260420T230711
CREATED:20241229T204915Z
LAST-MODIFIED:20241229T204915Z
UID:6049-1736197200-1736204400@www.kinoki.com.mx
SUMMARY:Zapatista (SUB ING)
DESCRIPTION:Eichert\, Rowley\, Sandberg\, español con subtítulos en inglés\, documental\, E.U.\, 1998\, 52 min. \nDocumental de la lucha zapatista que muestra una parte de la situación social y política del conflicto armado; diversos testimonios y vivencias que conforman un análisis global\, nacional e internacional.
URL:https://www.kinoki.com.mx/funcion/zapatista-sub-ing-42/
LOCATION:Kinoki\, Belisario Domínguez #5\, San Cristóbal de Las Casas\, Chiapas\, 29246\, Mexico
CATEGORIES:zapatista
END:VEVENT
BEGIN:VEVENT
DTSTART;TZID=America/Monterrey:20250108T180000
DTEND;TZID=America/Monterrey:20250108T200000
DTSTAMP:20260420T230711
CREATED:20241229T205049Z
LAST-MODIFIED:20241229T205049Z
UID:6052-1736359200-1736366400@www.kinoki.com.mx
SUMMARY:Corazón del Tiempo (SUB ING)
DESCRIPTION:Alberto Cortés. México-España\, 2008\, 90 min.Español subtítulos en inglés.  \nEn un mundo donde todo cambia\, en una tierra extraordinaria de indios libres\, la pasión de una mujer se juega el sentido de su libertad en el corazón del tiempo” Una historia de amor en el interior de la selva lacandona y un viaje al corazón de la resistencia zapatista se concentran en Corazón del Tiempo.
URL:https://www.kinoki.com.mx/funcion/corazon-del-tiempo-sub-ing-38/
LOCATION:Kinoki\, Belisario Domínguez #5\, San Cristóbal de Las Casas\, Chiapas\, 29246\, Mexico
CATEGORIES:zapatista
END:VEVENT
BEGIN:VEVENT
DTSTART;TZID=America/Monterrey:20250113T210000
DTEND;TZID=America/Monterrey:20250113T230000
DTSTAMP:20260420T230711
CREATED:20241229T210520Z
LAST-MODIFIED:20241229T210520Z
UID:6078-1736802000-1736809200@www.kinoki.com.mx
SUMMARY:Las Compañeras Tienen Grado (SUB ING)
DESCRIPTION:Walkirias\, documental\, hablada en español subtítulos en inglés\, México\, 27 mins\, 1995. \nUnas mujeres con rango dentro del ejército zapatista hablan de lo que representa ser mujer dentro del ejército. Platican de sus motivaciones\, de sus luchas y de sus sacrificios.
URL:https://www.kinoki.com.mx/funcion/las-companeras-tienen-grado-sub-ing-34/
LOCATION:Kinoki\, Belisario Domínguez #5\, San Cristóbal de Las Casas\, Chiapas\, 29246\, Mexico
CATEGORIES:zapatista
END:VEVENT
BEGIN:VEVENT
DTSTART;TZID=America/Monterrey:20250114T180000
DTEND;TZID=America/Monterrey:20250114T200000
DTSTAMP:20260420T230711
CREATED:20241229T210611Z
LAST-MODIFIED:20241229T210611Z
UID:6079-1736877600-1736884800@www.kinoki.com.mx
SUMMARY:Autonomías Zapatistas
DESCRIPTION:Prod. Arte\, Música y Video\, documental\,español sin subtítulos\, 2008\, 70 min. \nDocumental sobre las 5 juntas de buen gobierno y los caracoles zapatistas que pretende contribuir al conocimiento de estas experiencias autonómicas en más de 40 municipios rebeldes en Chiapas.  \n 
URL:https://www.kinoki.com.mx/funcion/autonomias-zapatistas-34/
LOCATION:Kinoki\, Belisario Domínguez #5\, San Cristóbal de Las Casas\, Chiapas\, 29246\, Mexico
CATEGORIES:zapatista
END:VEVENT
BEGIN:VEVENT
DTSTART;TZID=America/Monterrey:20250115T210000
DTEND;TZID=America/Monterrey:20250115T230000
DTSTAMP:20260420T230711
CREATED:20241229T210737Z
LAST-MODIFIED:20241229T210737Z
UID:6082-1736974800-1736982000@www.kinoki.com.mx
SUMMARY:Jun O'ntonal. Memorial sobre la guerra de contrainsurgencia en Chiapas.
DESCRIPTION:Documental\, 65 minutos. Español y tsotsil con subtítulos en español. \nDIRECCIÓN y PRODUCCIÓN: Jaime Schlittler Álvarez\, Alejandro Caputo Plaza y Madely Trujillo Ballinas \nCreative Commons. Chiapas\, México\, 2023. \nLargometraje documental hilado por testimonios de personas sobrevivientes a la mal llamada “Guerra de Baja Intensidad” en Chiapas\, y que desde la reivindicación de la memoria\, como un motor de acción política\, se empeñan en recordar y señalar a los autores materiales e intelectuales de esa guerra\, en la búsqueda de justicia y paz. El documental reflexiona sobre el significado que tiene para los pueblos mayas de Chiapas\, la guerra\, la paz\, la memoria\, la resistencia\, la justicia\, la muerte y la vida. 
URL:https://www.kinoki.com.mx/funcion/jun-ontonal-memorial-sobre-la-guerra-de-contrainsurgencia-en-chiapas-33/
LOCATION:Kinoki\, Belisario Domínguez #5\, San Cristóbal de Las Casas\, Chiapas\, 29246\, Mexico
CATEGORIES:zapatista
END:VEVENT
BEGIN:VEVENT
DTSTART;TZID=America/Monterrey:20250117T180000
DTEND;TZID=America/Monterrey:20250117T200000
DTSTAMP:20260420T230711
CREATED:20241229T211156Z
LAST-MODIFIED:20241229T211156Z
UID:6101-1737136800-1737144000@www.kinoki.com.mx
SUMMARY:Tierra de Mujeres (SUB ING)
DESCRIPTION:La Lucha por la Dignidad de las Mujeres en Chiapas\, México. Adriana Estrada. México\, 2003. Documental. 60 min. Español con subtítulos en inglés.  \nImágenes y testimonios de mujeres indígenas en Chiapas\, su ser mujer\, su ser trabajadora\, su ser madre\, hermana\, experiencias guiadas por las mismas mujeres del trabajo que cuesta ser mujer indígena en Chiapas\, los efectos del conflicto armado en sus vida y el trato que han recibido de los hombres. 
URL:https://www.kinoki.com.mx/funcion/tierra-de-mujeres-sub-ing-44/
LOCATION:Kinoki\, Belisario Domínguez #5\, San Cristóbal de Las Casas\, Chiapas\, 29246\, Mexico
CATEGORIES:zapatista
END:VEVENT
BEGIN:VEVENT
DTSTART;TZID=America/Monterrey:20250118T210000
DTEND;TZID=America/Monterrey:20250118T230000
DTSTAMP:20260420T230711
CREATED:20241229T211355Z
LAST-MODIFIED:20241229T211355Z
UID:6104-1737234000-1737241200@www.kinoki.com.mx
SUMMARY:Los más Pequeños\, un Retrato del EZLN
DESCRIPTION:Maria Del Carmen Ortiz y Jose Luis Contreras\, documental\, hablado en español\, México\, 1994\, 64 min. Impactante crónica de la ardua lucha cotidiana que enfrentan el EZLN y las comunidades indígenas que habitan en el territorio rebelde para sobrevivir en el cerco. La cinta está estructurada por los testimonios de diferentes milicianos acerca de su incorporación al Ejército Zapatista. \n 
URL:https://www.kinoki.com.mx/funcion/los-mas-pequenos-un-retrato-del-ezln-44/
LOCATION:Kinoki\, Belisario Domínguez #5\, San Cristóbal de Las Casas\, Chiapas\, 29246\, Mexico
CATEGORIES:zapatista
END:VEVENT
BEGIN:VEVENT
DTSTART;TZID=America/Monterrey:20250120T180000
DTEND;TZID=America/Monterrey:20250120T200000
DTSTAMP:20260420T230711
CREATED:20241229T211526Z
LAST-MODIFIED:20241229T211526Z
UID:6107-1737396000-1737403200@www.kinoki.com.mx
SUMMARY:Zapatistas\, Crónicas de una Rebelión (SUB ING)
DESCRIPTION:Carlos Mendoza\, Canalseisdejulio\, español subtítulos en inglés\, documental\, México\, 2003\, 120 mins.  \nEn este video documental La Jornada y canalseisdejulio presentan una crónica de 10 años del movimiento zapatista desde antes de la irrupción pública del Ejército Zapatista de Liberación Nacional\, el primero de enero de 1994\, hasta la desaparición de los Aguascalientes y la creación de los Caracoles en agosto de 2003. Incluye\, entre otros\,  entrevistas exclusivas con el subcomandante Marcos e imágenes inéditas de la resistencia. 
URL:https://www.kinoki.com.mx/funcion/zapatistas-cronicas-de-una-rebelion-sub-ing-29/
LOCATION:Kinoki\, Belisario Domínguez #5\, San Cristóbal de Las Casas\, Chiapas\, 29246\, Mexico
CATEGORIES:zapatista
END:VEVENT
BEGIN:VEVENT
DTSTART;TZID=America/Monterrey:20250121T180000
DTEND;TZID=America/Monterrey:20250121T200000
DTSTAMP:20260420T230711
CREATED:20241229T211628Z
LAST-MODIFIED:20241229T211628Z
UID:6109-1737482400-1737489600@www.kinoki.com.mx
SUMMARY:Corazón del Tiempo (SUB ING)
DESCRIPTION: Alberto Cortés. México-España\, 2008\, 90 min.Español subtítulos en inglés.  \nEn un mundo donde todo cambia\, en una tierra extraordinaria de indios libres\, la pasión de una mujer se juega el sentido de su libertad en el corazón del tiempo” Una historia de amor en el interior de la selva lacandona y un viaje al corazón de la resistencia zapatista se concentran en Corazón del Tiempo.
URL:https://www.kinoki.com.mx/funcion/corazon-del-tiempo-sub-ing-39/
LOCATION:Kinoki\, Belisario Domínguez #5\, San Cristóbal de Las Casas\, Chiapas\, 29246\, Mexico
CATEGORIES:zapatista
END:VEVENT
BEGIN:VEVENT
DTSTART;TZID=America/Monterrey:20250121T210000
DTEND;TZID=America/Monterrey:20250121T230000
DTSTAMP:20260420T230711
CREATED:20241229T211653Z
LAST-MODIFIED:20241229T211653Z
UID:6110-1737493200-1737500400@www.kinoki.com.mx
SUMMARY:Zapatista (SUB ING)
DESCRIPTION:Eichert\, Rowley\, Sandberg\, español con subtítulos en inglés\, documental\, E.U.\, 1998\, 52 min. \nDocumental de la lucha zapatista que muestra una parte de la situación social y política del conflicto armado; diversos testimonios y vivencias que conforman un análisis global\, nacional e internacional.
URL:https://www.kinoki.com.mx/funcion/zapatista-sub-ing-43/
LOCATION:Kinoki\, Belisario Domínguez #5\, San Cristóbal de Las Casas\, Chiapas\, 29246\, Mexico
CATEGORIES:zapatista
END:VEVENT
BEGIN:VEVENT
DTSTART;TZID=America/Monterrey:20250122T210000
DTEND;TZID=America/Monterrey:20250122T230000
DTSTAMP:20260420T230711
CREATED:20241229T211755Z
LAST-MODIFIED:20241229T211755Z
UID:6112-1737579600-1737586800@www.kinoki.com.mx
SUMMARY:Las Compañeras Tienen Grado (SUB ING)
DESCRIPTION:Walkirias\, documental\, hablada en español subtítulos en inglés\, México\, 27 mins\, 1995. \nUnas mujeres con rango dentro del ejército zapatista hablan de lo que representa ser mujer dentro del ejército. Platican de sus motivaciones\, de sus luchas y de sus sacrificios.
URL:https://www.kinoki.com.mx/funcion/las-companeras-tienen-grado-sub-ing-35/
LOCATION:Kinoki\, Belisario Domínguez #5\, San Cristóbal de Las Casas\, Chiapas\, 29246\, Mexico
CATEGORIES:zapatista
END:VEVENT
BEGIN:VEVENT
DTSTART;TZID=America/Monterrey:20250127T180000
DTEND;TZID=America/Monterrey:20250127T200000
DTSTAMP:20260420T230711
CREATED:20241229T212542Z
LAST-MODIFIED:20241229T212542Z
UID:6138-1738000800-1738008000@www.kinoki.com.mx
SUMMARY:Autonomías Zapatistas
DESCRIPTION:Prod. Arte\, Música y Video\, documental\,español sin subtítulos\, 2008\, 70 min. \nDocumental sobre las 5 juntas de buen gobierno y los caracoles zapatistas que pretende contribuir al conocimiento de estas experiencias autonómicas en más de 40 municipios rebeldes en Chiapas.  \n 
URL:https://www.kinoki.com.mx/funcion/autonomias-zapatistas-35/
LOCATION:Kinoki\, Belisario Domínguez #5\, San Cristóbal de Las Casas\, Chiapas\, 29246\, Mexico
CATEGORIES:zapatista
END:VEVENT
BEGIN:VEVENT
DTSTART;TZID=America/Monterrey:20250129T210000
DTEND;TZID=America/Monterrey:20250129T230000
DTSTAMP:20260420T230711
CREATED:20241229T212825Z
LAST-MODIFIED:20241229T212825Z
UID:6143-1738184400-1738191600@www.kinoki.com.mx
SUMMARY:Jun O'ntonal. Memorial sobre la guerra de contrainsurgencia en Chiapas.
DESCRIPTION:Documental\, 65 minutos. Español y tsotsil con subtítulos en español. \nDIRECCIÓN y PRODUCCIÓN: Jaime Schlittler Álvarez\, Alejandro Caputo Plaza y Madely Trujillo Ballinas \nCreative Commons. Chiapas\, México\, 2023. \nLargometraje documental hilado por testimonios de personas sobrevivientes a la mal llamada “Guerra de Baja Intensidad” en Chiapas\, y que desde la reivindicación de la memoria\, como un motor de acción política\, se empeñan en recordar y señalar a los autores materiales e intelectuales de esa guerra\, en la búsqueda de justicia y paz. El documental reflexiona sobre el significado que tiene para los pueblos mayas de Chiapas\, la guerra\, la paz\, la memoria\, la resistencia\, la justicia\, la muerte y la vida. 
URL:https://www.kinoki.com.mx/funcion/jun-ontonal-memorial-sobre-la-guerra-de-contrainsurgencia-en-chiapas-34/
LOCATION:Kinoki\, Belisario Domínguez #5\, San Cristóbal de Las Casas\, Chiapas\, 29246\, Mexico
CATEGORIES:zapatista
END:VEVENT
BEGIN:VEVENT
DTSTART;TZID=America/Monterrey:20250130T180000
DTEND;TZID=America/Monterrey:20250130T200000
DTSTAMP:20260420T230711
CREATED:20241229T212857Z
LAST-MODIFIED:20241229T212857Z
UID:6144-1738260000-1738267200@www.kinoki.com.mx
SUMMARY:Tierra de Mujeres (SUB ING)
DESCRIPTION:La Lucha por la Dignidad de las Mujeres en Chiapas\, México. Adriana Estrada. México\, 2003. Documental. 60 min. Español con subtítulos en inglés.  \nImágenes y testimonios de mujeres indígenas en Chiapas\, su ser mujer\, su ser trabajadora\, su ser madre\, hermana\, experiencias guiadas por las mismas mujeres del trabajo que cuesta ser mujer indígena en Chiapas\, los efectos del conflicto armado en sus vida y el trato que han recibido de los hombres.  \n 
URL:https://www.kinoki.com.mx/funcion/tierra-de-mujeres-sub-ing-45/
LOCATION:Kinoki\, Belisario Domínguez #5\, San Cristóbal de Las Casas\, Chiapas\, 29246\, Mexico
CATEGORIES:zapatista
END:VEVENT
END:VCALENDAR