BEGIN:VCALENDAR
VERSION:2.0
PRODID:-//Kinoki - ECPv6.15.18//NONSGML v1.0//EN
CALSCALE:GREGORIAN
METHOD:PUBLISH
X-ORIGINAL-URL:https://www.kinoki.com.mx
X-WR-CALDESC:Eventos para Kinoki
REFRESH-INTERVAL;VALUE=DURATION:PT1H
X-Robots-Tag:noindex
X-PUBLISHED-TTL:PT1H
BEGIN:VTIMEZONE
TZID:America/Monterrey
BEGIN:STANDARD
TZOFFSETFROM:-0600
TZOFFSETTO:-0600
TZNAME:CST
DTSTART:20240101T000000
END:STANDARD
END:VTIMEZONE
BEGIN:VEVENT
DTSTART;TZID=America/Monterrey:20250407T180000
DTEND;TZID=America/Monterrey:20250407T200000
DTSTAMP:20260420T175559
CREATED:20250330T163203Z
LAST-MODIFIED:20250330T163203Z
UID:6447-1744048800-1744056000@www.kinoki.com.mx
SUMMARY:Corazón del Tiempo (SUB ING)
DESCRIPTION:Alberto Cortés. México-España\, 2008\, 90 min.Español subtítulos en inglés.  \nEn un mundo donde todo cambia\, en una tierra extraordinaria de indios libres\, la pasión de una mujer se juega el sentido de su libertad en el corazón del tiempo” Una historia de amor en el interior de la selva lacandona y un viaje al corazón de la resistencia zapatista se concentran en Corazón del Tiempo.  \n 
URL:https://www.kinoki.com.mx/funcion/corazon-del-tiempo-sub-ing-42/
LOCATION:Kinoki\, Belisario Domínguez #5\, San Cristóbal de Las Casas\, Chiapas\, 29246\, Mexico
CATEGORIES:zapatista
END:VEVENT
BEGIN:VEVENT
DTSTART;TZID=America/Monterrey:20250408T180000
DTEND;TZID=America/Monterrey:20250408T200000
DTSTAMP:20260420T175559
CREATED:20250330T163334Z
LAST-MODIFIED:20250330T163334Z
UID:6471-1744135200-1744142400@www.kinoki.com.mx
SUMMARY:Las Compañeras Tienen Grado (SUB ING)
DESCRIPTION:Walkirias\, documental\, hablada en español subtítulos en inglés\, México\, 27 mins\, 1995. \nUnas mujeres con rango dentro del ejército zapatista hablan de lo que representa ser mujer dentro del ejército. Platican de sus motivaciones\, de sus luchas y de sus sacrificios. \n 
URL:https://www.kinoki.com.mx/funcion/las-companeras-tienen-grado-sub-ing-38/
LOCATION:Kinoki\, Belisario Domínguez #5\, San Cristóbal de Las Casas\, Chiapas\, 29246\, Mexico
CATEGORIES:zapatista
END:VEVENT
BEGIN:VEVENT
DTSTART;TZID=America/Monterrey:20250410T210000
DTEND;TZID=America/Monterrey:20250410T230000
DTSTAMP:20260420T175559
CREATED:20250330T163539Z
LAST-MODIFIED:20250330T163539Z
UID:6476-1744318800-1744326000@www.kinoki.com.mx
SUMMARY:Zapatista (SUB ING)
DESCRIPTION: Eichert\, Rowley\, Sandberg\, español con subtítulos en inglés\, documental\, E.U.\, 1998\, 52 min. \nDocumental de la lucha zapatista que muestra una parte de la situación social y política del conflicto armado; diversos testimonios y vivencias que conforman un análisis global\, nacional e internacional.
URL:https://www.kinoki.com.mx/funcion/zapatista-sub-ing-46/
LOCATION:Kinoki\, Belisario Domínguez #5\, San Cristóbal de Las Casas\, Chiapas\, 29246\, Mexico
CATEGORIES:zapatista
END:VEVENT
BEGIN:VEVENT
DTSTART;TZID=America/Monterrey:20250412T180000
DTEND;TZID=America/Monterrey:20250412T200000
DTSTAMP:20260420T175559
CREATED:20250330T163707Z
LAST-MODIFIED:20250330T163707Z
UID:6479-1744480800-1744488000@www.kinoki.com.mx
SUMMARY:Autonomías Zapatistas
DESCRIPTION:Prod. Arte\, Música y Video\, documental\,español sin subtítulos\, 2008\, 70 min. \nDocumental sobre las 5 juntas de buen gobierno y los caracoles zapatistas que pretende contribuir al conocimiento de estas experiencias autonómicas en más de 40 municipios rebeldes en Chiapas. 
URL:https://www.kinoki.com.mx/funcion/autonomias-zapatistas-38/
LOCATION:Kinoki\, Belisario Domínguez #5\, San Cristóbal de Las Casas\, Chiapas\, 29246\, Mexico
CATEGORIES:zapatista
END:VEVENT
BEGIN:VEVENT
DTSTART;TZID=America/Monterrey:20250416T210000
DTEND;TZID=America/Monterrey:20250416T230000
DTSTAMP:20260420T175559
CREATED:20250330T164854Z
LAST-MODIFIED:20250330T164854Z
UID:6503-1744837200-1744844400@www.kinoki.com.mx
SUMMARY:Jun O'ntonal. Memorial sobre la guerra de contrainsurgencia en Chiapas.
DESCRIPTION:Documental\, 65 minutos. Español y tsotsil con subtítulos en español. \nDIRECCIÓN y PRODUCCIÓN: Jaime Schlittler Álvarez\, Alejandro Caputo Plaza y Madely Trujillo Ballinas \nCreative Commons. Chiapas\, México\, 2023. \nLargometraje documental hilado por testimonios de personas sobrevivientes a la mal llamada “Guerra de Baja Intensidad” en Chiapas\, y que desde la reivindicación de la memoria\, como un motor de acción política\, se empeñan en recordar y señalar a los autores materiales e intelectuales de esa guerra\, en la búsqueda de justicia y paz. El documental reflexiona sobre el significado que tiene para los pueblos mayas de Chiapas\, la guerra\, la paz\, la memoria\, la resistencia\, la justicia\, la muerte y la vida. 
URL:https://www.kinoki.com.mx/funcion/jun-ontonal-memorial-sobre-la-guerra-de-contrainsurgencia-en-chiapas-36/
LOCATION:Kinoki\, Belisario Domínguez #5\, San Cristóbal de Las Casas\, Chiapas\, 29246\, Mexico
CATEGORIES:zapatista
END:VEVENT
BEGIN:VEVENT
DTSTART;TZID=America/Monterrey:20250421T210000
DTEND;TZID=America/Monterrey:20250421T230000
DTSTAMP:20260420T175559
CREATED:20250330T165420Z
LAST-MODIFIED:20250330T165420Z
UID:6527-1745269200-1745276400@www.kinoki.com.mx
SUMMARY:Los más Pequeños\, un Retrato del EZLN
DESCRIPTION:Maria Del Carmen Ortiz y Jose Luis Contreras\, documental\, hablado en español\, México\, 1994\, 64 min. Impactante crónica de la ardua lucha cotidiana que enfrentan el EZLN y las comunidades indígenas que habitan en el territorio rebelde para sobrevivir en el cerco. La cinta está estructurada por los testimonios de diferentes milicianos acerca de su incorporación al Ejército Zapatista. \n 
URL:https://www.kinoki.com.mx/funcion/los-mas-pequenos-un-retrato-del-ezln-48/
LOCATION:Kinoki\, Belisario Domínguez #5\, San Cristóbal de Las Casas\, Chiapas\, 29246\, Mexico
CATEGORIES:zapatista
END:VEVENT
BEGIN:VEVENT
DTSTART;TZID=America/Monterrey:20250424T210000
DTEND;TZID=America/Monterrey:20250424T230000
DTSTAMP:20260420T175559
CREATED:20250330T165744Z
LAST-MODIFIED:20250330T165744Z
UID:6535-1745528400-1745535600@www.kinoki.com.mx
SUMMARY:Zapatistas\, Crónicas de una Rebelión (SUB ING)
DESCRIPTION:Carlos Mendoza\, Canalseisdejulio\, español subtítulos en inglés\, documental\, México\, 2003\, 120 mins. En este video documental La Jornada y canalseisdejulio presentan una crónica de 10 años del movimiento zapatista desde antes de la irrupción pública del Ejército Zapatista de Liberación Nacional\, el primero de enero de 1994\, hasta la desaparición de los Aguascalientes y la creación de los Caracoles en agosto de 2003. Incluye\, entre otros\,  entrevistas exclusivas con el subcomandante Marcos e imágenes inéditas de la resistencia. 
URL:https://www.kinoki.com.mx/funcion/zapatistas-cronicas-de-una-rebelion-sub-ing-34/
LOCATION:Kinoki\, Belisario Domínguez #5\, San Cristóbal de Las Casas\, Chiapas\, 29246\, Mexico
CATEGORIES:zapatista
END:VEVENT
BEGIN:VEVENT
DTSTART;TZID=America/Monterrey:20250428T210000
DTEND;TZID=America/Monterrey:20250428T230000
DTSTAMP:20260420T175559
CREATED:20250330T170201Z
LAST-MODIFIED:20250330T170201Z
UID:6543-1745874000-1745881200@www.kinoki.com.mx
SUMMARY:Zapatista (SUB ING)
DESCRIPTION: Eichert\, Rowley\, Sandberg\, español con subtítulos en inglés\, documental\, E.U.\, 1998\, 52 min. \nDocumental de la lucha zapatista que muestra una parte de la situación social y política del conflicto armado; diversos testimonios y vivencias que conforman un análisis global\, nacional e internacional.
URL:https://www.kinoki.com.mx/funcion/zapatista-sub-ing-47/
LOCATION:Kinoki\, Belisario Domínguez #5\, San Cristóbal de Las Casas\, Chiapas\, 29246\, Mexico
CATEGORIES:zapatista
END:VEVENT
BEGIN:VEVENT
DTSTART;TZID=America/Monterrey:20250429T180000
DTEND;TZID=America/Monterrey:20250429T200000
DTSTAMP:20260420T175559
CREATED:20250330T170234Z
LAST-MODIFIED:20250330T170234Z
UID:6559-1745949600-1745956800@www.kinoki.com.mx
SUMMARY:Las Compañeras Tienen Grado (SUB ING)
DESCRIPTION:Walkirias\, documental\, hablada en español subtítulos en inglés\, México\, 27 mins\, 1995. \nUnas mujeres con rango dentro del ejército zapatista hablan de lo que representa ser mujer dentro del ejército. Platican de sus motivaciones\, de sus luchas y de sus sacrificios.
URL:https://www.kinoki.com.mx/funcion/las-companeras-tienen-grado-sub-ing-39/
LOCATION:Kinoki\, Belisario Domínguez #5\, San Cristóbal de Las Casas\, Chiapas\, 29246\, Mexico
CATEGORIES:zapatista
END:VEVENT
BEGIN:VEVENT
DTSTART;TZID=America/Monterrey:20250430T180000
DTEND;TZID=America/Monterrey:20250430T200000
DTSTAMP:20260420T175559
CREATED:20250330T170439Z
LAST-MODIFIED:20250330T170439Z
UID:6567-1746036000-1746043200@www.kinoki.com.mx
SUMMARY:Corazón del Tiempo (SUB ING)
DESCRIPTION:Alberto Cortés. México-España\, 2008\, 90 min.Español subtítulos en inglés.  \nEn un mundo donde todo cambia\, en una tierra extraordinaria de indios libres\, la pasión de una mujer se juega el sentido de su libertad en el corazón del tiempo” Una historia de amor en el interior de la selva lacandona y un viaje al corazón de la resistencia zapatista se concentran en Corazón del Tiempo. 
URL:https://www.kinoki.com.mx/funcion/corazon-del-tiempo-sub-ing-43/
LOCATION:Kinoki\, Belisario Domínguez #5\, San Cristóbal de Las Casas\, Chiapas\, 29246\, Mexico
CATEGORIES:zapatista
END:VEVENT
END:VCALENDAR