BEGIN:VCALENDAR
VERSION:2.0
PRODID:-//Kinoki - ECPv6.15.18//NONSGML v1.0//EN
CALSCALE:GREGORIAN
METHOD:PUBLISH
X-WR-CALNAME:Kinoki
X-ORIGINAL-URL:https://www.kinoki.com.mx
X-WR-CALDESC:Eventos para Kinoki
REFRESH-INTERVAL;VALUE=DURATION:PT1H
X-Robots-Tag:noindex
X-PUBLISHED-TTL:PT1H
BEGIN:VTIMEZONE
TZID:America/Monterrey
BEGIN:STANDARD
TZOFFSETFROM:-0600
TZOFFSETTO:-0600
TZNAME:CST
DTSTART:20240101T000000
END:STANDARD
END:VTIMEZONE
BEGIN:VEVENT
DTSTART;TZID=America/Monterrey:20250501T210000
DTEND;TZID=America/Monterrey:20250501T223000
DTSTAMP:20260420T162037
CREATED:20250429T125451Z
LAST-MODIFIED:20250429T125451Z
UID:6579-1746133200-1746138600@www.kinoki.com.mx
SUMMARY:Jun O'ntonal. Memorial sobre la guerra de contrainsurgencia en Chiapas.
DESCRIPTION:Documental\, 65 minutos. Español y tsotsil con subtítulos en español. \nDIRECCIÓN y PRODUCCIÓN: Jaime Schlittler Álvarez\, Alejandro Caputo Plaza y Madely Trujillo Ballinas \nCreative Commons. Chiapas\, México\, 2023. \nLargometraje documental hilado por testimonios de personas sobrevivientes a la mal llamada “Guerra de Baja Intensidad” en Chiapas\, y que desde la reivindicación de la memoria\, como un motor de acción política\, se empeñan en recordar y señalar a los autores materiales e intelectuales de esa guerra\, en la búsqueda de justicia y paz. El documental reflexiona sobre el significado que tiene para los pueblos mayas de Chiapas\, la guerra\, la paz\, la memoria\, la resistencia\, la justicia\, la muerte y la vida. 
URL:https://www.kinoki.com.mx/funcion/jun-ontonal-memorial-sobre-la-guerra-de-contrainsurgencia-en-chiapas-37/
LOCATION:Kinoki\, Belisario Domínguez #5\, San Cristóbal de Las Casas\, Chiapas\, 29246\, Mexico
CATEGORIES:zapatista
END:VEVENT
BEGIN:VEVENT
DTSTART;TZID=America/Monterrey:20250515T210000
DTEND;TZID=America/Monterrey:20250515T230000
DTSTAMP:20260420T162037
CREATED:20250429T131329Z
LAST-MODIFIED:20250429T131329Z
UID:6638-1747342800-1747350000@www.kinoki.com.mx
SUMMARY:Los más Pequeños\, un Retrato del EZLN
DESCRIPTION:Maria Del Carmen Ortiz y Jose Luis Contreras\, documental\, hablado en español\, México\, 1994\, 64 min. Impactante crónica de la ardua lucha cotidiana que enfrentan el EZLN y las comunidades indígenas que habitan en el territorio rebelde para sobrevivir en el cerco. La cinta está estructurada por los testimonios de diferentes milicianos acerca de su incorporación al Ejército Zapatista.
URL:https://www.kinoki.com.mx/funcion/los-mas-pequenos-un-retrato-del-ezln-49/
LOCATION:Kinoki\, Belisario Domínguez #5\, San Cristóbal de Las Casas\, Chiapas\, 29246\, Mexico
CATEGORIES:zapatista
END:VEVENT
BEGIN:VEVENT
DTSTART;TZID=America/Monterrey:20250519T180000
DTEND;TZID=America/Monterrey:20250519T200000
DTSTAMP:20260420T162037
CREATED:20250506T123634Z
LAST-MODIFIED:20250506T123634Z
UID:6656-1747677600-1747684800@www.kinoki.com.mx
SUMMARY:Zapatistas\, Crónicas de una Rebelión (SUB ING)
DESCRIPTION:Carlos Mendoza\, Canalseisdejulio\, español subtítulos en inglés\, documental\, México\, 2003\, 120 mins. En este video documental La Jornada y canalseisdejulio presentan una crónica de 10 años del movimiento zapatista desde antes de la irrupción pública del Ejército Zapatista de Liberación Nacional\, el primero de enero de 1994\, hasta la desaparición de los Aguascalientes y la creación de los Caracoles en agosto de 2003. Incluye\, entre otros\,  entrevistas exclusivas con el subcomandante Marcos e imágenes inéditas de la resistencia. 
URL:https://www.kinoki.com.mx/funcion/zapatistas-cronicas-de-una-rebelion-sub-ing-35/
LOCATION:Kinoki\, Belisario Domínguez #5\, San Cristóbal de Las Casas\, Chiapas\, 29246\, Mexico
CATEGORIES:zapatista
END:VEVENT
BEGIN:VEVENT
DTSTART;TZID=America/Monterrey:20250521T180000
DTEND;TZID=America/Monterrey:20250521T200000
DTSTAMP:20260420T162037
CREATED:20250506T123837Z
LAST-MODIFIED:20250506T123837Z
UID:6660-1747850400-1747857600@www.kinoki.com.mx
SUMMARY:LA GRIETA + EL COMÚN EN RESISTENCIAS Y REBELDÍAS
DESCRIPTION:La Grieta. Andrea Cegna. 2024. Documental. 31 min.  \nUn documental sobre los primeros 30 años de la revolución zapatista. Un recorrido por los logros sociopolíticos que la lucha del EZLN generó para México. Un relato a varias voces de treinta años de resistencia y construcción de otro mundo posible.  \nEl Común en la resistencia y la rebeldía. Andrea Cegna. 2025. Documental. 19 min. \nPalabras de la comandancia del EZLN e imágenes de las iniciativas para celebrar los 31 años del levantamiento zapatista. Un video corto que hace cosquillas a las sugerencias zapatistas entre diciembre de 2024 y enero de 2025. 
URL:https://www.kinoki.com.mx/funcion/la-grieta-el-comun-en-resistencias-y-rebeldias/
LOCATION:Kinoki\, Belisario Domínguez #5\, San Cristóbal de Las Casas\, Chiapas\, 29246\, Mexico
CATEGORIES:zapatista
END:VEVENT
BEGIN:VEVENT
DTSTART;TZID=America/Monterrey:20250524T210000
DTEND;TZID=America/Monterrey:20250524T230000
DTSTAMP:20260420T162037
CREATED:20250506T124226Z
LAST-MODIFIED:20250506T124226Z
UID:6683-1748120400-1748127600@www.kinoki.com.mx
SUMMARY:Zapatista (SUB ING)
DESCRIPTION:Eichert\, Rowley\, Sandberg\, español con subtítulos en inglés\, documental\, E.U.\, 1998\, 52 min. \nDocumental de la lucha zapatista que muestra una parte de la situación social y política del conflicto armado; diversos testimonios y vivencias que conforman un análisis global\, nacional e internacional.
URL:https://www.kinoki.com.mx/funcion/zapatista-sub-ing-48/
LOCATION:Kinoki\, Belisario Domínguez #5\, San Cristóbal de Las Casas\, Chiapas\, 29246\, Mexico
CATEGORIES:zapatista
END:VEVENT
BEGIN:VEVENT
DTSTART;TZID=America/Monterrey:20250526T210000
DTEND;TZID=America/Monterrey:20250526T230000
DTSTAMP:20260420T162037
CREATED:20250506T124410Z
LAST-MODIFIED:20250506T124410Z
UID:6687-1748293200-1748300400@www.kinoki.com.mx
SUMMARY:Corazón del Tiempo (SUB ING)
DESCRIPTION: Alberto Cortés. México-España\, 2008\, 90 min.Español subtítulos en inglés.  \nEn un mundo donde todo cambia\, en una tierra extraordinaria de indios libres\, la pasión de una mujer se juega el sentido de su libertad en el corazón del tiempo” Una historia de amor en el interior de la selva lacandona y un viaje al corazón de la resistencia zapatista se concentran en Corazón del Tiempo.
URL:https://www.kinoki.com.mx/funcion/corazon-del-tiempo-sub-ing-44/
LOCATION:Kinoki\, Belisario Domínguez #5\, San Cristóbal de Las Casas\, Chiapas\, 29246\, Mexico
CATEGORIES:zapatista
END:VEVENT
BEGIN:VEVENT
DTSTART;TZID=America/Monterrey:20250528T210000
DTEND;TZID=America/Monterrey:20250528T230000
DTSTAMP:20260420T162037
CREATED:20250506T124553Z
LAST-MODIFIED:20250506T124553Z
UID:6691-1748466000-1748473200@www.kinoki.com.mx
SUMMARY:Las Compañeras Tienen Grado (SUB ING)
DESCRIPTION:Walkirias\, documental\, hablada en español subtítulos en inglés\, México\, 27 mins\, 1995. \nUnas mujeres con rango dentro del ejército zapatista hablan de lo que representa ser mujer dentro del ejército. Platican de sus motivaciones\, de sus luchas y de sus sacrificios.
URL:https://www.kinoki.com.mx/funcion/las-companeras-tienen-grado-sub-ing-40/
LOCATION:Kinoki\, Belisario Domínguez #5\, San Cristóbal de Las Casas\, Chiapas\, 29246\, Mexico
CATEGORIES:zapatista
END:VEVENT
END:VCALENDAR