BEGIN:VCALENDAR
VERSION:2.0
PRODID:-//Kinoki - ECPv6.15.18//NONSGML v1.0//EN
CALSCALE:GREGORIAN
METHOD:PUBLISH
X-ORIGINAL-URL:https://www.kinoki.com.mx
X-WR-CALDESC:Eventos para Kinoki
REFRESH-INTERVAL;VALUE=DURATION:PT1H
X-Robots-Tag:noindex
X-PUBLISHED-TTL:PT1H
BEGIN:VTIMEZONE
TZID:America/Monterrey
BEGIN:STANDARD
TZOFFSETFROM:-0600
TZOFFSETTO:-0600
TZNAME:CST
DTSTART:20240101T000000
END:STANDARD
END:VTIMEZONE
BEGIN:VEVENT
DTSTART;TZID=America/Monterrey:20250219T210000
DTEND;TZID=America/Monterrey:20250219T230000
DTSTAMP:20260420T232351
CREATED:20250123T193705Z
LAST-MODIFIED:20250123T193705Z
UID:6249-1739998800-1740006000@www.kinoki.com.mx
SUMMARY:Las Compañeras Tienen Grado (SUB ING)
DESCRIPTION:Walkirias\, documental\, hablada en español subtítulos en inglés\, México\, 27 mins\, 1995. \nUnas mujeres con rango dentro del ejército zapatista hablan de lo que representa ser mujer dentro del ejército. Platican de sus motivaciones\, de sus luchas y de sus sacrificios. \n 
URL:https://www.kinoki.com.mx/funcion/las-companeras-tienen-grado-sub-ing-36/
LOCATION:Kinoki\, Belisario Domínguez #5\, San Cristóbal de Las Casas\, Chiapas\, 29246\, Mexico
CATEGORIES:zapatista
END:VEVENT
END:VCALENDAR